BEGIN:VCALENDAR
VERSION:2.0
PRODID:-//jEvents 2.0 for Joomla//EN
CALSCALE:GREGORIAN
METHOD:PUBLISH
BEGIN:VTIMEZONE
TZID:Europe/Berlin
BEGIN:STANDARD
DTSTART:20231029T020000
RDATE:20240331T030000
TZOFFSETFROM:+0200
TZOFFSETTO:+0100
TZNAME:Europe/Berlin CET
END:STANDARD
BEGIN:STANDARD
DTSTART:20241027T020000
RDATE:20250330T030000
TZOFFSETFROM:+0200
TZOFFSETTO:+0100
TZNAME:Europe/Berlin CET
END:STANDARD
BEGIN:STANDARD
DTSTART:20251026T020000
RDATE:20260329T030000
TZOFFSETFROM:+0200
TZOFFSETTO:+0100
TZNAME:Europe/Berlin CET
END:STANDARD
BEGIN:STANDARD
DTSTART:20261025T020000
RDATE:20270328T030000
TZOFFSETFROM:+0200
TZOFFSETTO:+0100
TZNAME:Europe/Berlin CET
END:STANDARD
BEGIN:STANDARD
DTSTART:20271031T020000
RDATE:20280326T030000
TZOFFSETFROM:+0200
TZOFFSETTO:+0100
TZNAME:Europe/Berlin CET
END:STANDARD
BEGIN:STANDARD
DTSTART:20281029T020000
RDATE:20290325T030000
TZOFFSETFROM:+0200
TZOFFSETTO:+0100
TZNAME:Europe/Berlin CET
END:STANDARD
BEGIN:STANDARD
DTSTART:20291028T020000
RDATE:20300331T030000
TZOFFSETFROM:+0200
TZOFFSETTO:+0100
TZNAME:Europe/Berlin CET
END:STANDARD
BEGIN:STANDARD
DTSTART:20301027T020000
RDATE:20310330T030000
TZOFFSETFROM:+0200
TZOFFSETTO:+0100
TZNAME:Europe/Berlin CET
END:STANDARD
BEGIN:STANDARD
DTSTART:20311026T020000
RDATE:20320328T030000
TZOFFSETFROM:+0200
TZOFFSETTO:+0100
TZNAME:Europe/Berlin CET
END:STANDARD
BEGIN:DAYLIGHT
DTSTART:20230620T000000
RDATE:20231029T020000
TZOFFSETFROM:+0100
TZOFFSETTO:+0200
TZNAME:Europe/Berlin CEST
END:DAYLIGHT
BEGIN:DAYLIGHT
DTSTART:20240331T030000
RDATE:20241027T020000
TZOFFSETFROM:+0100
TZOFFSETTO:+0200
TZNAME:Europe/Berlin CEST
END:DAYLIGHT
BEGIN:DAYLIGHT
DTSTART:20250330T030000
RDATE:20251026T020000
TZOFFSETFROM:+0100
TZOFFSETTO:+0200
TZNAME:Europe/Berlin CEST
END:DAYLIGHT
BEGIN:DAYLIGHT
DTSTART:20260329T030000
RDATE:20261025T020000
TZOFFSETFROM:+0100
TZOFFSETTO:+0200
TZNAME:Europe/Berlin CEST
END:DAYLIGHT
BEGIN:DAYLIGHT
DTSTART:20270328T030000
RDATE:20271031T020000
TZOFFSETFROM:+0100
TZOFFSETTO:+0200
TZNAME:Europe/Berlin CEST
END:DAYLIGHT
BEGIN:DAYLIGHT
DTSTART:20280326T030000
RDATE:20281029T020000
TZOFFSETFROM:+0100
TZOFFSETTO:+0200
TZNAME:Europe/Berlin CEST
END:DAYLIGHT
BEGIN:DAYLIGHT
DTSTART:20290325T030000
RDATE:20291028T020000
TZOFFSETFROM:+0100
TZOFFSETTO:+0200
TZNAME:Europe/Berlin CEST
END:DAYLIGHT
BEGIN:DAYLIGHT
DTSTART:20300331T030000
RDATE:20301027T020000
TZOFFSETFROM:+0100
TZOFFSETTO:+0200
TZNAME:Europe/Berlin CEST
END:DAYLIGHT
BEGIN:DAYLIGHT
DTSTART:20310330T030000
RDATE:20311026T020000
TZOFFSETFROM:+0100
TZOFFSETTO:+0200
TZNAME:Europe/Berlin CEST
END:DAYLIGHT
END:VTIMEZONE
BEGIN:VEVENT
UID:4eff465645260fd1c9eb5ed3c54479e0
CATEGORIES:Jugend-Touren
CREATED:20240123T223857
SUMMARY:Flussfahrt Schüler*innen des BBZ Stegen und FFF-Jugend
DESCRIPTION:Organisatoren: Armin Rombach, Lester Flamm, Jutta Läufer (mailto:a.rombach@
 bbzstegen.de;%20lester.flamm@bbzstegen.de;?subject=Gemeinsames%20Training%2
 0Schüler*innen%20des%20BBZ%20Stegen%20und%20FFF-Jugend)\n \nFlussfahrt auf 
 dem Altrhein oder Alte Elz\nDie Schüler*innen des BBZ Stegen trainieren auf
  dem fließendem Gewässer. Gerne dürfen Jugendliche des FFF an diesem Traini
 ng teilnehmen. Eine Abholung in Freiburg ist nach Absprache möglich. Bitte 
 spätestens bis 6. Juni 2024 bei Armin und Lester anmelden. \nWir freuen uns
  auf euch,\n   Armin und Lester\n
X-ALT-DESC;FMTTYPE=text/html:<p style="text-align: right;"><span style="color: #3366ff;"><strong>Organis
 atoren:</strong></span> <a title="E-Mail an Team der Kajak AG des BBZ-Stege
 n" href="mailto:a.rombach@bbzstegen.de;%20lester.flamm@bbzstegen.de;?subjec
 t=Gemeinsames%20Training%20Schüler*innen%20des%20BBZ%20Stegen%20und%20FFF-J
 ugend" target="_blank">Armin Rombach, Lester Flamm, Jutta Läufer</a></p><p>
 &nbsp;</p><p style="text-align: center;"><span style="font-size: 18pt; font
 -family: comic sans ms, sans-serif; color: #3366ff;">Flussfahrt auf dem Alt
 rhein oder Alte Elz</span></p><p>Die Schüler*innen des BBZ Stegen trainiere
 n auf dem fließendem Gewässer. Gerne dürfen Jugendliche des FFF an diesem T
 raining teilnehmen. Eine Abholung in Freiburg ist nach Absprache möglich. B
 itte spätestens bis <strong>6. Juni 2024</strong> bei Armin und Lester <str
 ong>anmelden</strong>. </p><p>Wir freuen uns auf euch,</p><p>&nbsp;&nbsp; <
 span style="font-family: comic sans ms, sans-serif;">Armin und Lester</span
 ></p>
DTSTAMP:20260423T053156
DTSTART;TZID=Europe/Berlin;VALUE=DATE:20240620
DTEND;TZID=Europe/Berlin;VALUE=DATE:20240621
SEQUENCE:0
TRANSP:OPAQUE
END:VEVENT
END:VCALENDAR