BEGIN:VCALENDAR
VERSION:2.0
PRODID:-//jEvents 2.0 for Joomla//EN
CALSCALE:GREGORIAN
METHOD:PUBLISH
BEGIN:VTIMEZONE
TZID:Europe/Berlin
BEGIN:STANDARD
DTSTART:20241027T020000
RDATE:20250330T030000
TZOFFSETFROM:+0200
TZOFFSETTO:+0100
TZNAME:Europe/Berlin CET
END:STANDARD
BEGIN:STANDARD
DTSTART:20251026T020000
RDATE:20260329T030000
TZOFFSETFROM:+0200
TZOFFSETTO:+0100
TZNAME:Europe/Berlin CET
END:STANDARD
BEGIN:STANDARD
DTSTART:20261025T020000
RDATE:20270328T030000
TZOFFSETFROM:+0200
TZOFFSETTO:+0100
TZNAME:Europe/Berlin CET
END:STANDARD
BEGIN:STANDARD
DTSTART:20271031T020000
RDATE:20280326T030000
TZOFFSETFROM:+0200
TZOFFSETTO:+0100
TZNAME:Europe/Berlin CET
END:STANDARD
BEGIN:STANDARD
DTSTART:20281029T020000
RDATE:20290325T030000
TZOFFSETFROM:+0200
TZOFFSETTO:+0100
TZNAME:Europe/Berlin CET
END:STANDARD
BEGIN:STANDARD
DTSTART:20291028T020000
RDATE:20300331T030000
TZOFFSETFROM:+0200
TZOFFSETTO:+0100
TZNAME:Europe/Berlin CET
END:STANDARD
BEGIN:STANDARD
DTSTART:20301027T020000
RDATE:20310330T030000
TZOFFSETFROM:+0200
TZOFFSETTO:+0100
TZNAME:Europe/Berlin CET
END:STANDARD
BEGIN:STANDARD
DTSTART:20311026T020000
RDATE:20320328T030000
TZOFFSETFROM:+0200
TZOFFSETTO:+0100
TZNAME:Europe/Berlin CET
END:STANDARD
BEGIN:DAYLIGHT
DTSTART:20241017T190000
RDATE:20241027T020000
TZOFFSETFROM:+0100
TZOFFSETTO:+0200
TZNAME:Europe/Berlin CEST
END:DAYLIGHT
BEGIN:DAYLIGHT
DTSTART:20250330T030000
RDATE:20251026T020000
TZOFFSETFROM:+0100
TZOFFSETTO:+0200
TZNAME:Europe/Berlin CEST
END:DAYLIGHT
BEGIN:DAYLIGHT
DTSTART:20260329T030000
RDATE:20261025T020000
TZOFFSETFROM:+0100
TZOFFSETTO:+0200
TZNAME:Europe/Berlin CEST
END:DAYLIGHT
BEGIN:DAYLIGHT
DTSTART:20270328T030000
RDATE:20271031T020000
TZOFFSETFROM:+0100
TZOFFSETTO:+0200
TZNAME:Europe/Berlin CEST
END:DAYLIGHT
BEGIN:DAYLIGHT
DTSTART:20280326T030000
RDATE:20281029T020000
TZOFFSETFROM:+0100
TZOFFSETTO:+0200
TZNAME:Europe/Berlin CEST
END:DAYLIGHT
BEGIN:DAYLIGHT
DTSTART:20290325T030000
RDATE:20291028T020000
TZOFFSETFROM:+0100
TZOFFSETTO:+0200
TZNAME:Europe/Berlin CEST
END:DAYLIGHT
BEGIN:DAYLIGHT
DTSTART:20300331T030000
RDATE:20301027T020000
TZOFFSETFROM:+0100
TZOFFSETTO:+0200
TZNAME:Europe/Berlin CEST
END:DAYLIGHT
BEGIN:DAYLIGHT
DTSTART:20310330T030000
RDATE:20311026T020000
TZOFFSETFROM:+0100
TZOFFSETTO:+0200
TZNAME:Europe/Berlin CEST
END:DAYLIGHT
END:VTIMEZONE
BEGIN:VEVENT
UID:ce22d7d8dba84b4d500f06295582a634
CATEGORIES:Regio-Touren, Wanderpaddeln, Wildwasser-Touren, Seekajak-Touren, Sonstiges, Jugend-Touren
CREATED:20250531T144016
SUMMARY:FFF-Film-Abend: Olaf Obsommer präsentiert ...
DESCRIPTION:Organisator: Klemens Binninger und Olaf Obsommer (mailto:vorstand.klemens@f
 ff-freiburg.de;%20olaf@obsommer.de?subject=FFF:%20Film-Abend%20mit%20Olaf%2
 0Obsommer)\n"Film ab" für einen neuen spannenden\nFFF-Film-Abend mit Olaf O
 bsommer\nOlaf Obsommer hat nach dem begeisterten Anklang seines Films im Ra
 hmen unseres 100-jährigen FFF-Vereins­jubiläums Klemens angeboten, allen Ka
 nu-Freunden im Südwesten auch 2025 einen Film zu zeigen. Wir im Vorstand ha
 ben nicht lange gebraucht für die Entscheidung 😊.\nUnd so freuen wir uns, e
 uch zu einem weiteren Film-Abend mit höchster Spannung einladen zu können:\
 nZeit: am 18.10.2025 ab 19 Uhr (Einlass ab 18 Uhr)\nOrt: im Melanchthon-Saa
 l, Melanchthonweg 9, 79115 Freiburg (FR-Haslach)\nFFF &amp; Olaf Obsommer z
 eigen in Kooperation …\n… sogar zwei Filme 😊 – Olaf nimmt uns und alle Freu
 nde und Bekannte mit zu:\n\n - Wildwasser-Expedition Gabun\n - Seekajak Cin
 que TerreOlaf war mit Super-Stars der Extrem-Kajak-Wild­wasser-Szene (Dane 
 Jackson USA, Bren Orton ENG, Adrian Mattern GER und Kalob Grady CAN) im tie
 fen Urwald von Gabun unterwegs – davon erzählt er uns zuerst.\nNach dem ers
 ten Filmerlebnis geht es zu einer um­weltfreundlichen Reise entlang der Cin
 que Terre in Italien.\nDu siehst: Spannung pur … also nicht lange zögern, g
 leich Karten kaufen.\nUnser Tipp: Teile Deine Kajak-Begeisterung mit Freund
 en, Nachbarn, Familie und bring sie mit zu unserem gemeinsamen Film-Event!\
 nDer Kartenvorverkauf hat begonnen – ihr bestellt online direkt bei Olaf Ob
 sommer: https://kurzlinks.de/objd (https://kurzlinks.de/objd)\nSchnell sein
  lohnt sich: Die Preis-Staffel:\n\n - Earlybird: 10 Euro bis 10.07.2025\n -
  Latebird: 12 Euro bis 29.08.2025\n - Danach 14 Euro Vorverkauf online bis 
 zum 18.10. um 17 Uhr\n - Abendkasse: 16 Euro\n - Bis 13 Jahre Eintritt frei
  – bitte Plätze reservieren über: Diese E-Mail-Adresse ist vor Spambots ges
 chützt! Zur Anzeige muss JavaScript eingeschaltet sein!
				document.getEle
 mentById('cloak4a43d85c0e003432b4e4384694a6f1b3').innerHTML = '';
				var p
 refix = '&#109;a' + 'i&#108;' + '&#116;o';
				var path = 'hr' + 'ef' + '='
 ;
				var addy4a43d85c0e003432b4e4384694a6f1b3 = '&#111;l&#97;f' + '&#64;';
 
				addy4a43d85c0e003432b4e4384694a6f1b3 = addy4a43d85c0e003432b4e4384694a
 6f1b3 + '&#111;bs&#111;mm&#101;r' + '&#46;' + 'd&#101;?s&#117;bj&#101;ct=FF
 F-F&#105;lm-Ab&#101;nd%20m&#105;t%20Ol&#97;f%20Obs&#111;mm&#101;r%2018' + '
 &#46;' + '10' + '&#46;' + '2025:%20K&#97;rt&#101;nb&#101;st&#101;ll&#117;ng
 ';
				var addy_text4a43d85c0e003432b4e4384694a6f1b3 = '&#111;l&#97;f' + '&
 #64;' + '&#111;bs&#111;mm&#101;r' + '&#46;' + 'd&#101;';document.getElement
 ById('cloak4a43d85c0e003432b4e4384694a6f1b3').innerHTML += '<a style="backg
 round-color: #ffff00;" title="FFF-Film-Abend: Platzreservierungen für Kinde
 r bei Olaf Obsommer" ' + path + '\'' + prefix + ':' + addy4a43d85c0e003432b
 4e4384694a6f1b3 + '\' target="_blank">'+addy_text4a43d85c0e003432b4e4384694
 a6f1b3+'';
		\n - Jugendliche 14 – 17 Jahre: 8 EuroWer beim Film-Abend 2024
  nicht dabei war und Olaf nicht kennt: Olaf ist ein professioneller Aben­te
 urer, Buchautor und renommierter Kajakfilmer. Seine erste Paddeltour erlebt
 e er 1970 auf dem Rhein – im Bauch seiner Mutter. Inzwischen blickt er auf 
 mehr als 30 Jahre Wildwasser-Erfahrung zurück, gesammelt auf den schwierigs
 ten Flüssen der Erde.\nOlafs Filmproduktionen faszinieren Wassersportler un
 d Nichtpaddler gleichermaßen. Für seine Gäste fängt er traumhafte Landschaf
 ten, paradiesische Wild­flüsse und atemberaubende Aktionen auf der ganzen W
 elt ein. In seinen Live-Reportagen berichtet er in entspannter und humorvol
 ler Atmosphäre über seine Expeditionen und den sportlichen und logistischen
  Weg dorthin.\nAuf, komm zu Olaf Obsommers FFF-Filmabend\nWir freuen uns mi
 t Olaf auf viele kajak- und natur­begeisterte Zuschauer am 18.10. im Melanc
 hthon-Saal.\nDer Vorstand\n
X-ALT-DESC;FMTTYPE=text/html:<p style="text-align: right;"><strong><span style="color: #3366ff;">Organis
 ator:</span></strong> <a title="E-Mail an die Organisatoren des FFF-Film-Ab
 ends mit Olaf Obsommer" href="mailto:vorstand.klemens@fff-freiburg.de;%20ol
 af@obsommer.de?subject=FFF:%20Film-Abend%20mit%20Olaf%20Obsommer" target="_
 blank">Klemens Binninger und Olaf Obsommer</a></p><p style="text-align: cen
 ter;"><span style="font-size: 24pt;"><strong><span style="color: #3366ff;">
 "Film ab"</span></strong></span> <span style="font-size: 14pt;">für einen <
 strong><span style="color: #00ff00;">neuen</span> <span style="color: #8000
 80;">spannenden</span></strong></span></p><p style="text-align: center;"><s
 pan style="font-size: 24pt; color: #993366;">FFF-Film-Abend mit Olaf Obsomm
 er</span></p><p>Olaf Obsommer hat nach dem begeisterten Anklang seines Film
 s im Rahmen unseres 100-jährigen FFF-Vereins­jubiläums Klemens angeboten, a
 llen Kanu-Freunden im Südwesten auch 2025 einen Film zu zeigen. Wir im Vors
 tand haben nicht lange gebraucht für die Entscheidung 😊.</p><p>Und so freue
 n wir uns, euch zu einem weiteren Film-Abend mit höchster Spannung einladen
  zu können:</p><p><strong>Zeit:</strong> am <strong>18.10.2025</strong> ab 
 <strong>19 Uhr</strong> (Einlass ab 18 Uhr)</p><p><strong>Ort:</strong>&nbs
 p;im Melanchthon-Saal, Melanchthonweg 9, 79115 Freiburg (FR-Haslach)</p><p>
 <strong><span style="color: #3366ff;">FFF &amp; Olaf Obsommer zeigen in Koo
 peration </span></strong><span style="color: #3366ff;">…</span></p><p>… sog
 ar zwei Filme 😊 – Olaf nimmt uns und alle Freunde und Bekannte mit zu:</p><
 ul><li>Wildwasser-Expedition Gabun</li><li>Seekajak Cinque Terre</li></ul><
 p>Olaf war mit Super-Stars der Extrem-Kajak-Wild­wasser-Szene (Dane Jackson
  USA, Bren Orton ENG, Adrian Mattern GER und Kalob Grady CAN) im tiefen Urw
 ald von Gabun unterwegs – davon erzählt er uns zuerst.</p><p>Nach dem erste
 n Filmerlebnis geht es zu einer um­weltfreundlichen Reise entlang der Cinqu
 e Terre in Italien.</p><p><strong>Du siehst:</strong> Spannung pur … also n
 icht lange zögern, gleich Karten kaufen.</p><p><span style="background-colo
 r: #ffcc00;"><strong>Unser Tipp:</strong> Teile Deine Kajak-Begeisterung mi
 t Freunden, Nachbarn, Familie und bring sie mit zu unserem gemeinsamen Film
 -Event!</span></p><p><strong>Der </strong><span style="font-size: 14pt; col
 or: #800000;"><strong>Kartenvorverkauf</strong></span><strong> hat begonnen
  – ihr bestellt online direkt bei Olaf Obsommer:&nbsp;<a title="Kartenbeste
 llung und weitere Infos zum Film-Abend mit Olaf Obsommer" href="https://kur
 zlinks.de/objd" target="_blank" rel="noopener">https://kurzlinks.de/objd</a
 ></strong></p><p><span style="background-color: #ffff00;"><span style="colo
 r: #800000;"><strong>Schnell sein lohnt sich:</strong></span> Die Preis-Sta
 ffel:</span></p><ul><li><span style="background-color: #ffff00;">Earlybird:
  10 Euro bis 10.07.2025</span></li><li><span style="background-color: #ffff
 00;">Latebird: 12 Euro bis 29.08.2025</span></li><li><span style="backgroun
 d-color: #ffff00;">Danach 14 Euro Vorverkauf online bis zum 18.10. um 17 Uh
 r</span></li><li><span style="background-color: #ffff00;">Abendkasse: 16 Eu
 ro</span></li><li><span style="background-color: #ffff00;">Bis 13 Jahre Ein
 tritt frei – bitte Plätze reservieren über: <strong><span id="cloak4a43d85c
 0e003432b4e4384694a6f1b3">Diese E-Mail-Adresse ist vor Spambots geschützt! 
 Zur Anzeige muss JavaScript eingeschaltet sein!</span><script type='text/ja
 vascript'>
				document.getElementById('cloak4a43d85c0e003432b4e4384694a6f1
 b3').innerHTML = '';
				var prefix = '&#109;a' + 'i&#108;' + '&#116;o';
		
 		var path = 'hr' + 'ef' + '=';
				var addy4a43d85c0e003432b4e4384694a6f1b
 3 = '&#111;l&#97;f' + '&#64;';
				addy4a43d85c0e003432b4e4384694a6f1b3 = a
 ddy4a43d85c0e003432b4e4384694a6f1b3 + '&#111;bs&#111;mm&#101;r' + '&#46;' +
  'd&#101;?s&#117;bj&#101;ct=FFF-F&#105;lm-Ab&#101;nd%20m&#105;t%20Ol&#97;f%
 20Obs&#111;mm&#101;r%2018' + '&#46;' + '10' + '&#46;' + '2025:%20K&#97;rt&#
 101;nb&#101;st&#101;ll&#117;ng';
				var addy_text4a43d85c0e003432b4e438469
 4a6f1b3 = '&#111;l&#97;f' + '&#64;' + '&#111;bs&#111;mm&#101;r' + '&#46;' +
  'd&#101;';document.getElementById('cloak4a43d85c0e003432b4e4384694a6f1b3')
 .innerHTML += '<a style="background-color: #ffff00;" title="FFF-Film-Abend:
  Platzreservierungen für Kinder bei Olaf Obsommer" ' + path + '\'' + prefix
  + ':' + addy4a43d85c0e003432b4e4384694a6f1b3 + '\' target="_blank">'+addy_
 text4a43d85c0e003432b4e4384694a6f1b3+'<\/a>';
		</script></strong></span></
 li><li><span style="background-color: #ffff00;">Jugendliche 14 – 17 Jahre: 
 8 Euro</span></li></ul><p><strong>Wer beim Film-Abend 2024 nicht dabei war 
 und Olaf nicht kennt:</strong> Olaf ist ein professioneller Aben­teurer, Bu
 chautor und renommierter Kajakfilmer.&nbsp;Seine erste Paddeltour erlebte e
 r 1970 auf dem Rhein – im Bauch seiner Mutter. Inzwischen blickt er auf meh
 r als 30 Jahre Wildwasser-Erfahrung zurück, gesammelt auf den schwierigsten
  Flüssen der Erde.</p><p>Olafs Filmproduktionen faszinieren Wassersportler 
 und Nichtpaddler gleichermaßen. Für seine Gäste fängt er traumhafte Landsch
 aften, paradiesische Wild­flüsse und atemberaubende Aktionen auf der ganzen
  Welt ein. In seinen Live-Reportagen berichtet er in entspannter und humorv
 oller Atmosphäre über seine Expeditionen und den sportlichen und logistisch
 en Weg dorthin.</p><p style="text-align: center;"><span style="font-family:
  comic sans ms, sans-serif; font-size: 18pt; color: #3366ff;">Auf, komm zu&
 nbsp;Olaf Obsommers&nbsp;FFF-Filmabend</span></p><p>Wir freuen uns mit Olaf
  auf viele kajak- und natur­begeisterte Zuschauer am 18.10. im Melanchthon-
 Saal.</p><p style="text-align: center;"><span style="font-family: comic san
 s ms, sans-serif; font-size: 12pt;">Der Vorstand</span></p>
DTSTAMP:20260421T122409
DTSTART;TZID=Europe/Berlin:20251018T190000
SEQUENCE:0
TRANSP:OPAQUE
END:VEVENT
END:VCALENDAR