BEGIN:VCALENDAR
VERSION:2.0
PRODID:-//jEvents 2.0 for Joomla//EN
CALSCALE:GREGORIAN
METHOD:PUBLISH
BEGIN:VTIMEZONE
TZID:Europe/Berlin
BEGIN:STANDARD
DTSTART:20241027T020000
RDATE:20250330T030000
TZOFFSETFROM:+0200
TZOFFSETTO:+0100
TZNAME:Europe/Berlin CET
END:STANDARD
BEGIN:STANDARD
DTSTART:20251026T020000
RDATE:20260329T030000
TZOFFSETFROM:+0200
TZOFFSETTO:+0100
TZNAME:Europe/Berlin CET
END:STANDARD
BEGIN:STANDARD
DTSTART:20261025T020000
RDATE:20270328T030000
TZOFFSETFROM:+0200
TZOFFSETTO:+0100
TZNAME:Europe/Berlin CET
END:STANDARD
BEGIN:STANDARD
DTSTART:20271031T020000
RDATE:20280326T030000
TZOFFSETFROM:+0200
TZOFFSETTO:+0100
TZNAME:Europe/Berlin CET
END:STANDARD
BEGIN:STANDARD
DTSTART:20281029T020000
RDATE:20290325T030000
TZOFFSETFROM:+0200
TZOFFSETTO:+0100
TZNAME:Europe/Berlin CET
END:STANDARD
BEGIN:STANDARD
DTSTART:20291028T020000
RDATE:20300331T030000
TZOFFSETFROM:+0200
TZOFFSETTO:+0100
TZNAME:Europe/Berlin CET
END:STANDARD
BEGIN:STANDARD
DTSTART:20301027T020000
RDATE:20310330T030000
TZOFFSETFROM:+0200
TZOFFSETTO:+0100
TZNAME:Europe/Berlin CET
END:STANDARD
BEGIN:STANDARD
DTSTART:20311026T020000
RDATE:20320328T030000
TZOFFSETFROM:+0200
TZOFFSETTO:+0100
TZNAME:Europe/Berlin CET
END:STANDARD
BEGIN:DAYLIGHT
DTSTART:20240427T193000
RDATE:20241027T020000
TZOFFSETFROM:+0100
TZOFFSETTO:+0200
TZNAME:Europe/Berlin CEST
END:DAYLIGHT
BEGIN:DAYLIGHT
DTSTART:20250330T030000
RDATE:20251026T020000
TZOFFSETFROM:+0100
TZOFFSETTO:+0200
TZNAME:Europe/Berlin CEST
END:DAYLIGHT
BEGIN:DAYLIGHT
DTSTART:20260329T030000
RDATE:20261025T020000
TZOFFSETFROM:+0100
TZOFFSETTO:+0200
TZNAME:Europe/Berlin CEST
END:DAYLIGHT
BEGIN:DAYLIGHT
DTSTART:20270328T030000
RDATE:20271031T020000
TZOFFSETFROM:+0100
TZOFFSETTO:+0200
TZNAME:Europe/Berlin CEST
END:DAYLIGHT
BEGIN:DAYLIGHT
DTSTART:20280326T030000
RDATE:20281029T020000
TZOFFSETFROM:+0100
TZOFFSETTO:+0200
TZNAME:Europe/Berlin CEST
END:DAYLIGHT
BEGIN:DAYLIGHT
DTSTART:20290325T030000
RDATE:20291028T020000
TZOFFSETFROM:+0100
TZOFFSETTO:+0200
TZNAME:Europe/Berlin CEST
END:DAYLIGHT
BEGIN:DAYLIGHT
DTSTART:20300331T030000
RDATE:20301027T020000
TZOFFSETFROM:+0100
TZOFFSETTO:+0200
TZNAME:Europe/Berlin CEST
END:DAYLIGHT
BEGIN:DAYLIGHT
DTSTART:20310330T030000
RDATE:20311026T020000
TZOFFSETFROM:+0100
TZOFFSETTO:+0200
TZNAME:Europe/Berlin CEST
END:DAYLIGHT
END:VTIMEZONE
BEGIN:VEVENT
UID:bca904eb9a417731f605065b046eb5e9
CATEGORIES:Regio-Touren, Wanderpaddeln, Wildwasser-Touren, Kanupolo, Seekajak-Touren, Jugend-Touren
CREATED:20220523T091548
SUMMARY:Ran an die Müllzange
DESCRIPTION:Diese E-Mail-Adresse ist vor Spambots geschützt! Zur Anzeige muss JavaScrip
 t eingeschaltet sein!
				document.getElementById('cloakfc896ef23c06cd06c38
 ad72398eb87c3').innerHTML = '';
				var prefix = '&#109;a' + 'i&#108;' + '&
 #116;o';
				var path = 'hr' + 'ef' + '=';
				var addyfc896ef23c06cd06c38a
 d72398eb87c3 = 'j&#117;g&#101;ndw&#97;rt' + '&#64;';
				addyfc896ef23c06cd
 06c38ad72398eb87c3 = addyfc896ef23c06cd06c38ad72398eb87c3 + 'fff-fr&#101;&#
 105;b&#117;rg' + '&#46;' + 'd&#101;?s&#117;bj&#101;ct=Cl&#101;&#97;nUp';
		
 		var addy_textfc896ef23c06cd06c38ad72398eb87c3 = 'J&#117;g&#101;ndw&#97;rt
 &#101;:';document.getElementById('cloakfc896ef23c06cd06c38ad72398eb87c3').i
 nnerHTML += '<a style="color: #000000;" title="E-Mail an Jugendwarte" ' + p
 ath + '\'' + prefix + ':' + addyfc896ef23c06cd06c38ad72398eb87c3 + '\' targ
 et="_blank">'+addy_textfc896ef23c06cd06c38ad72398eb87c3+'';
		 Diese E-Mail
 -Adresse ist vor Spambots geschützt! Zur Anzeige muss JavaScript eingeschal
 tet sein!
				document.getElementById('cloak6d233e3839cd9ffdea8a4996cbb3f98
 c').innerHTML = '';
				var prefix = '&#109;a' + 'i&#108;' + '&#116;o';
			
 	var path = 'hr' + 'ef' + '=';
				var addy6d233e3839cd9ffdea8a4996cbb3f98c
  = 'j&#117;g&#101;ndw&#97;rt' + '&#64;';
				addy6d233e3839cd9ffdea8a4996cb
 b3f98c = addy6d233e3839cd9ffdea8a4996cbb3f98c + 'fff-fr&#101;&#105;b&#117;r
 g' + '&#46;' + 'd&#101;?s&#117;bj&#101;ct=FFF:%20M&uuml;lls&#97;mm&#101;l&#
 97;kt&#105;&#111;n';
				var addy_text6d233e3839cd9ffdea8a4996cbb3f98c = 'J
 &#101;ss&#105; G&#101;rstn&#101;r &#117;nd Ph&#105;l&#105;pp N&#111;th&#101
 ;&#105;s';document.getElementById('cloak6d233e3839cd9ffdea8a4996cbb3f98c').
 innerHTML += '<a title="E-Mail an Jugendwarte" ' + path + '\'' + prefix + '
 :' + addy6d233e3839cd9ffdea8a4996cbb3f98c + '\' target="_blank">'+addy_text
 6d233e3839cd9ffdea8a4996cbb3f98c+'';
		\nRan an die MüllzangeWir lieben den
  Opfinger See, die Natur und das gemeinsame Draußensein im Grünen!\nDas ist
  ein Privileg, das wir zu schätzen wissen. Und deshalb werden wir als Jugen
 dgruppe des FFF am Montag, den 28.04., nach unserem 1. Training der Sommers
 aison 2025 (ca. 19.30 Uhr) im Rahmen der Schwarzwald CleanUP Days eine Rund
 e um den Opfinger See marschieren, um Müll zu sammeln. Denn: Umweltschutz i
 st uns wichtig. Wir möchten als aktive Besuchende des Opfinger Sees unseren
  Beitrag dazu leisten, dass Flora und Fauna geschützt werden und wir noch l
 ange an einem so schönen Ort trainieren können. \n\n Wer seine Müllzange sc
 hwingen möchte ist herzlich dazu eingeladen, sich uns anzuschließen. Die Sc
 hwarzwald CleanUP Days finden in der Woche vom 25.04. - 04.05.25 statt - we
 itere Aufräum-Wanderungen sind also auch möglich. Als Teilnehmer*in der Cle
 anUp Days bestimmt man selbst die Route, auf der man aufräumt, den Tag, an 
 dem man loszieht und das Team, mit dem man starten möchte. Edelstahlzangen 
 und wiederverwendbare Gewebe-Müllbeutel werden kostenfrei gestellt; Abholst
 ationen und Müllsammelstellen werden im gesamten Schwarzwald organisiert. W
 eitere Infos und die Anmeldemodalitäten findet ihr unter  (https://www.plas
 ticfreepeaks.com/schwarzwald)https://www.plasticfreepeaks.com/schwarzwald (
 https://www.plasticfreepeaks.com/schwarzwald).\nWORAUF WARTET IHR NOCH? RAN
  AN DEN MÜLL! :)\n
X-ALT-DESC;FMTTYPE=text/html:<p style="text-align: right;"><span style="color: #000000;"><strong><span i
 d="cloakfc896ef23c06cd06c38ad72398eb87c3">Diese E-Mail-Adresse ist vor Spam
 bots geschützt! Zur Anzeige muss JavaScript eingeschaltet sein!</span><scri
 pt type='text/javascript'>
				document.getElementById('cloakfc896ef23c06cd
 06c38ad72398eb87c3').innerHTML = '';
				var prefix = '&#109;a' + 'i&#108;'
  + '&#116;o';
				var path = 'hr' + 'ef' + '=';
				var addyfc896ef23c06cd0
 6c38ad72398eb87c3 = 'j&#117;g&#101;ndw&#97;rt' + '&#64;';
				addyfc896ef23
 c06cd06c38ad72398eb87c3 = addyfc896ef23c06cd06c38ad72398eb87c3 + 'fff-fr&#1
 01;&#105;b&#117;rg' + '&#46;' + 'd&#101;?s&#117;bj&#101;ct=Cl&#101;&#97;nUp
 ';
				var addy_textfc896ef23c06cd06c38ad72398eb87c3 = 'J&#117;g&#101;ndw&#
 97;rt&#101;:';document.getElementById('cloakfc896ef23c06cd06c38ad72398eb87c
 3').innerHTML += '<a style="color: #000000;" title="E-Mail an Jugendwarte" 
 ' + path + '\'' + prefix + ':' + addyfc896ef23c06cd06c38ad72398eb87c3 + '\'
  target="_blank">'+addy_textfc896ef23c06cd06c38ad72398eb87c3+'<\/a>';
		</s
 cript> </strong></span><span id="cloak6d233e3839cd9ffdea8a4996cbb3f98c">Die
 se E-Mail-Adresse ist vor Spambots geschützt! Zur Anzeige muss JavaScript e
 ingeschaltet sein!</span><script type='text/javascript'>
				document.getEl
 ementById('cloak6d233e3839cd9ffdea8a4996cbb3f98c').innerHTML = '';
				var 
 prefix = '&#109;a' + 'i&#108;' + '&#116;o';
				var path = 'hr' + 'ef' + '=
 ';
				var addy6d233e3839cd9ffdea8a4996cbb3f98c = 'j&#117;g&#101;ndw&#97;rt
 ' + '&#64;';
				addy6d233e3839cd9ffdea8a4996cbb3f98c = addy6d233e3839cd9ff
 dea8a4996cbb3f98c + 'fff-fr&#101;&#105;b&#117;rg' + '&#46;' + 'd&#101;?s&#1
 17;bj&#101;ct=FFF:%20M&uuml;lls&#97;mm&#101;l&#97;kt&#105;&#111;n';
				var
  addy_text6d233e3839cd9ffdea8a4996cbb3f98c = 'J&#101;ss&#105; G&#101;rstn&#
 101;r &#117;nd Ph&#105;l&#105;pp N&#111;th&#101;&#105;s';document.getElemen
 tById('cloak6d233e3839cd9ffdea8a4996cbb3f98c').innerHTML += '<a title="E-Ma
 il an Jugendwarte" ' + path + '\'' + prefix + ':' + addy6d233e3839cd9ffdea8
 a4996cbb3f98c + '\' target="_blank">'+addy_text6d233e3839cd9ffdea8a4996cbb3
 f98c+'<\/a>';
		</script></p><h2><span style="color: #0000ff; font-family: 
 comic sans ms, sans-serif;"><strong>Ran an die Müllzange</strong></span></h
 2><p><strong>Wir lieben den Opfinger See, die Natur und das gemeinsame Drau
 ßensein im Grünen!</strong></p><p>Das ist ein Privileg, das wir zu schätzen
  wissen. Und deshalb werden wir als Jugendgruppe des FFF am Montag, den 28.
 04., nach unserem 1. Training der Sommersaison 2025 (ca. 19.30 Uhr) im Rahm
 en der&nbsp;<strong><span style="color: #339966;">Schwarzwald CleanUP Days<
 /span>&nbsp;</strong>eine Runde um den Opfinger See marschieren, um Müll zu
  sammeln. Denn:&nbsp;<span style="color: #339966;"><strong>Umweltschutz ist
  uns wichtig</strong></span>.<strong>&nbsp;</strong>Wir möchten als aktive 
 Besuchende des Opfinger Sees unseren Beitrag dazu leisten, dass Flora und F
 auna geschützt werden und wir noch lange an einem so schönen Ort trainieren
  können.&nbsp;</p><p><br /> Wer seine Müllzange schwingen möchte ist herzli
 ch dazu eingeladen, sich uns anzuschließen. Die Schwarzwald CleanUP Days fi
 nden in der Woche vom 25.04. - 04.05.25 statt - weitere Aufräum-Wanderungen
  sind also auch möglich. Als Teilnehmer*in der CleanUp Days bestimmt man se
 lbst die Route, auf der man aufräumt, den Tag, an dem man loszieht und das 
 Team, mit dem man starten möchte. Edelstahlzangen und wiederverwendbare Gew
 ebe-Müllbeutel werden kostenfrei gestellt; Abholstationen und Müllsammelste
 llen werden im gesamten Schwarzwald organisiert. Weitere Infos und die Anme
 ldemodalitäten findet ihr unter&nbsp;<a href="https://www.plasticfreepeaks.
 com/schwarzwald"></a><a title="Weitere Infos zu den Schwarzwald CleanUp Day
 s - dieses Jahr sogar über die französische Grenze" href="https://www.plast
 icfreepeaks.com/schwarzwald" target="_blank" rel="noopener">https://www.pla
 sticfreepeaks.com/schwarzwald</a>.</p><p><strong>WORAUF WARTET IHR NOCH? RA
 N AN DEN MÜLL! :)</strong></p>
DTSTAMP:20260425T141219
DTSTART;TZID=Europe/Berlin:20250428T193000
SEQUENCE:0
TRANSP:OPAQUE
END:VEVENT
END:VCALENDAR