BEGIN:VCALENDAR
VERSION:2.0
PRODID:-//jEvents 2.0 for Joomla//EN
CALSCALE:GREGORIAN
METHOD:PUBLISH
BEGIN:VTIMEZONE
TZID:Europe/Berlin
BEGIN:STANDARD
DTSTART:20231109T190000
RDATE:20240331T030000
TZOFFSETFROM:+0200
TZOFFSETTO:+0100
TZNAME:Europe/Berlin CET
END:STANDARD
BEGIN:STANDARD
DTSTART:20241027T020000
RDATE:20250330T030000
TZOFFSETFROM:+0200
TZOFFSETTO:+0100
TZNAME:Europe/Berlin CET
END:STANDARD
BEGIN:STANDARD
DTSTART:20251026T020000
RDATE:20260329T030000
TZOFFSETFROM:+0200
TZOFFSETTO:+0100
TZNAME:Europe/Berlin CET
END:STANDARD
BEGIN:STANDARD
DTSTART:20261025T020000
RDATE:20270328T030000
TZOFFSETFROM:+0200
TZOFFSETTO:+0100
TZNAME:Europe/Berlin CET
END:STANDARD
BEGIN:STANDARD
DTSTART:20271031T020000
RDATE:20280326T030000
TZOFFSETFROM:+0200
TZOFFSETTO:+0100
TZNAME:Europe/Berlin CET
END:STANDARD
BEGIN:STANDARD
DTSTART:20281029T020000
RDATE:20290325T030000
TZOFFSETFROM:+0200
TZOFFSETTO:+0100
TZNAME:Europe/Berlin CET
END:STANDARD
BEGIN:STANDARD
DTSTART:20291028T020000
RDATE:20300331T030000
TZOFFSETFROM:+0200
TZOFFSETTO:+0100
TZNAME:Europe/Berlin CET
END:STANDARD
BEGIN:STANDARD
DTSTART:20301027T020000
RDATE:20310330T030000
TZOFFSETFROM:+0200
TZOFFSETTO:+0100
TZNAME:Europe/Berlin CET
END:STANDARD
BEGIN:STANDARD
DTSTART:20311026T020000
RDATE:20320328T030000
TZOFFSETFROM:+0200
TZOFFSETTO:+0100
TZNAME:Europe/Berlin CET
END:STANDARD
BEGIN:DAYLIGHT
DTSTART:20240331T030000
RDATE:20241027T020000
TZOFFSETFROM:+0100
TZOFFSETTO:+0200
TZNAME:Europe/Berlin CEST
END:DAYLIGHT
BEGIN:DAYLIGHT
DTSTART:20250330T030000
RDATE:20251026T020000
TZOFFSETFROM:+0100
TZOFFSETTO:+0200
TZNAME:Europe/Berlin CEST
END:DAYLIGHT
BEGIN:DAYLIGHT
DTSTART:20260329T030000
RDATE:20261025T020000
TZOFFSETFROM:+0100
TZOFFSETTO:+0200
TZNAME:Europe/Berlin CEST
END:DAYLIGHT
BEGIN:DAYLIGHT
DTSTART:20270328T030000
RDATE:20271031T020000
TZOFFSETFROM:+0100
TZOFFSETTO:+0200
TZNAME:Europe/Berlin CEST
END:DAYLIGHT
BEGIN:DAYLIGHT
DTSTART:20280326T030000
RDATE:20281029T020000
TZOFFSETFROM:+0100
TZOFFSETTO:+0200
TZNAME:Europe/Berlin CEST
END:DAYLIGHT
BEGIN:DAYLIGHT
DTSTART:20290325T030000
RDATE:20291028T020000
TZOFFSETFROM:+0100
TZOFFSETTO:+0200
TZNAME:Europe/Berlin CEST
END:DAYLIGHT
BEGIN:DAYLIGHT
DTSTART:20300331T030000
RDATE:20301027T020000
TZOFFSETFROM:+0100
TZOFFSETTO:+0200
TZNAME:Europe/Berlin CEST
END:DAYLIGHT
BEGIN:DAYLIGHT
DTSTART:20310330T030000
RDATE:20311026T020000
TZOFFSETFROM:+0100
TZOFFSETTO:+0200
TZNAME:Europe/Berlin CEST
END:DAYLIGHT
END:VTIMEZONE
BEGIN:VEVENT
UID:4f56d8746b46c757098e753a8f03eb4f
CATEGORIES:Sonstiges
CREATED:20240103T164208
SUMMARY:FFF-F - FFF-Fototreffen: Jahresrückblick in Bildern im Bootslager am Opfi
DESCRIPTION:Fahrtenleiter: Diese E-Mail-Adresse ist vor Spambots geschützt! Zur Anzeige
  muss JavaScript eingeschaltet sein!
				document.getElementById('cloakdc75
 83f62b35bbfb6da18704c57781d9').innerHTML = '';
				var prefix = '&#109;a' +
  'i&#108;' + '&#116;o';
				var path = 'hr' + 'ef' + '=';
				var addydc758
 3f62b35bbfb6da18704c57781d9 = 'v&#111;rst&#97;nd.kl&#101;m&#101;ns' + '&#64
 ;';
				addydc7583f62b35bbfb6da18704c57781d9 = addydc7583f62b35bbfb6da18704
 c57781d9 + 'fff-fr&#101;&#105;b&#117;rg' + '&#46;' + 'd&#101;?s&#117;bj&#10
 1;ct=R&#101;g&#105;&#111;-T&#111;&#117;r:%20Ott&#101;nh&#101;&#105;m&#101;r
 %20M&uuml;hlb&#97;ch';
				var addy_textdc7583f62b35bbfb6da18704c57781d9 = 
 'Kl&#101;m&#101;ns B&#105;nn&#105;ng&#101;r';document.getElementById('cloak
 dc7583f62b35bbfb6da18704c57781d9').innerHTML += '<a title="E-Mail an Fahrte
 nleiter Klemens" ' + path + '\'' + prefix + ':' + addydc7583f62b35bbfb6da18
 704c57781d9 + '\' target="_blank">'+addy_textdc7583f62b35bbfb6da18704c57781
 d9+'';
		\nAnmeldung bis: einfach kommen\nFFF-F - FFF-Fototreffen\nJahresrü
 ckblick in Bildern\nTraditionsgemäß möchten wir das Jahr in Bildern ausklin
 gen lassen. Jeder, der schöne Paddelbilder oder Filme insbesondere von Vere
 insaktivitäten (oder auch privaten Ausfahrten) hat, soll die gerne mitbring
 en und der Allgemeinheit zeigen.\nBeamer und Leinwand werden von uns gebrac
 ht und sind vorhan­den.\nWie in den vorigen Jahren werden wir auch dieses J
 ahr wieder Energie sparen und die Bilder/Filme im unbeheizten Bootshaus zei
 gen. Also warme Kleider anziehen und zahlreich kommen. Sitzgelegenheiten, F
 euerschalen, Kalt- und Warmgetränke und ein Grill sind vorhan­den. Grillgut
  bitte selbst mitbringen.\n            Termin: Samstag, 09.11.2024 um 19 Uh
 r\n                   Ort: Bootshaus am Opfinger See\nEs laden ein: der Vor
 stand des FFF\nFragen/Anregungen bitte an Diese E-Mail-Adresse ist vor Spam
 bots geschützt! Zur Anzeige muss JavaScript eingeschaltet sein!
				documen
 t.getElementById('cloak066dcd1ba80f3d0a9b6e3930f9158806').innerHTML = '';
	
 			var prefix = '&#109;a' + 'i&#108;' + '&#116;o';
				var path = 'hr' + 'e
 f' + '=';
				var addy066dcd1ba80f3d0a9b6e3930f9158806 = 'v&#111;rst&#97;nd
 .kl&#101;m&#101;ns' + '&#64;';
				addy066dcd1ba80f3d0a9b6e3930f9158806 = a
 ddy066dcd1ba80f3d0a9b6e3930f9158806 + 'fff-fr&#101;&#105;b&#117;rg' + '&#46
 ;' + 'd&#101;?s&#117;bj&#101;ct=R&#101;g&#105;&#111;-T&#111;&#117;r:%20Ott&
 #101;nh&#101;&#105;m&#101;r%20M&uuml;hlb&#97;ch';
				var addy_text066dcd1b
 a80f3d0a9b6e3930f9158806 = 'Kl&#101;m&#101;ns B&#105;nn&#105;ng&#101;r';doc
 ument.getElementById('cloak066dcd1ba80f3d0a9b6e3930f9158806').innerHTML += 
 '<a title="E-Mail an Organisator Klemens" ' + path + '\'' + prefix + ':' + 
 addy066dcd1ba80f3d0a9b6e3930f9158806 + '\' target="_blank">'+addy_text066dc
 d1ba80f3d0a9b6e3930f9158806+'';
		\n
X-ALT-DESC;FMTTYPE=text/html:<p style="text-align: right;"><strong><span style="color: #3366ff;">Fahrten
 leiter:</span></strong> <span id="cloakdc7583f62b35bbfb6da18704c57781d9">Di
 ese E-Mail-Adresse ist vor Spambots geschützt! Zur Anzeige muss JavaScript 
 eingeschaltet sein!</span><script type='text/javascript'>
				document.getE
 lementById('cloakdc7583f62b35bbfb6da18704c57781d9').innerHTML = '';
				var
  prefix = '&#109;a' + 'i&#108;' + '&#116;o';
				var path = 'hr' + 'ef' + '
 =';
				var addydc7583f62b35bbfb6da18704c57781d9 = 'v&#111;rst&#97;nd.kl&#1
 01;m&#101;ns' + '&#64;';
				addydc7583f62b35bbfb6da18704c57781d9 = addydc7
 583f62b35bbfb6da18704c57781d9 + 'fff-fr&#101;&#105;b&#117;rg' + '&#46;' + '
 d&#101;?s&#117;bj&#101;ct=R&#101;g&#105;&#111;-T&#111;&#117;r:%20Ott&#101;n
 h&#101;&#105;m&#101;r%20M&uuml;hlb&#97;ch';
				var addy_textdc7583f62b35bb
 fb6da18704c57781d9 = 'Kl&#101;m&#101;ns B&#105;nn&#105;ng&#101;r';document.
 getElementById('cloakdc7583f62b35bbfb6da18704c57781d9').innerHTML += '<a ti
 tle="E-Mail an Fahrtenleiter Klemens" ' + path + '\'' + prefix + ':' + addy
 dc7583f62b35bbfb6da18704c57781d9 + '\' target="_blank">'+addy_textdc7583f62
 b35bbfb6da18704c57781d9+'<\/a>';
		</script></p><p><strong>Anmeldung bis:</
 strong> einfach kommen</p><p style="text-align: center;"><span style="font-
 size: 18pt; font-family: comic sans ms, sans-serif;"><strong><span style="c
 olor: #993366;">FFF-F - FFF-Fototreffen</span></strong></span></p><p style=
 "text-align: center;"><span style="color: #ff9900; font-size: 36pt;"><stron
 g>Jahresrückblick in Bildern</strong></span></p><p>Traditionsgemäß möchten 
 wir das Jahr in Bildern ausklingen lassen. Jeder, der schöne Paddelbilder o
 der Filme insbesondere von Vereinsaktivitäten (oder auch privaten Ausfahrte
 n) hat, soll die gerne mitbringen und der Allgemeinheit zeigen.</p><p>Beame
 r und Leinwand werden von uns gebracht und sind vorhan­den.</p><p>Wie in de
 n vorigen Jahren werden wir auch dieses Jahr wieder Energie sparen und die 
 Bilder/Filme im unbeheizten Bootshaus zeigen. Also warme Kleider anziehen u
 nd zahlreich kommen. Sitzgelegenheiten, Feuerschalen, Kalt- und Warmgetränk
 e und ein Grill sind vorhan­den. Grillgut bitte selbst mitbringen.</p><p><s
 trong>&nbsp;&nbsp;&nbsp;&nbsp;&nbsp;&nbsp;&nbsp;&nbsp;&nbsp;&nbsp;&nbsp; Te
 rmin:</strong> Samstag, 09.11.2024 um 19 Uhr</p><p><strong>&nbsp;&nbsp;&nbs
 p;&nbsp;&nbsp;&nbsp;&nbsp;&nbsp;&nbsp;&nbsp;&nbsp; &nbsp;&nbsp;&nbsp;&nbsp;
 &nbsp;&nbsp; Ort:</strong> Bootshaus am Opfinger See</p><p>Es laden ein: de
 r Vorstand des FFF</p><p>Fragen/Anregungen bitte an <span id="cloak066dcd1b
 a80f3d0a9b6e3930f9158806">Diese E-Mail-Adresse ist vor Spambots geschützt! 
 Zur Anzeige muss JavaScript eingeschaltet sein!</span><script type='text/ja
 vascript'>
				document.getElementById('cloak066dcd1ba80f3d0a9b6e3930f91588
 06').innerHTML = '';
				var prefix = '&#109;a' + 'i&#108;' + '&#116;o';
		
 		var path = 'hr' + 'ef' + '=';
				var addy066dcd1ba80f3d0a9b6e3930f915880
 6 = 'v&#111;rst&#97;nd.kl&#101;m&#101;ns' + '&#64;';
				addy066dcd1ba80f3d
 0a9b6e3930f9158806 = addy066dcd1ba80f3d0a9b6e3930f9158806 + 'fff-fr&#101;&#
 105;b&#117;rg' + '&#46;' + 'd&#101;?s&#117;bj&#101;ct=R&#101;g&#105;&#111;-
 T&#111;&#117;r:%20Ott&#101;nh&#101;&#105;m&#101;r%20M&uuml;hlb&#97;ch';
			
 	var addy_text066dcd1ba80f3d0a9b6e3930f9158806 = 'Kl&#101;m&#101;ns B&#105;
 nn&#105;ng&#101;r';document.getElementById('cloak066dcd1ba80f3d0a9b6e3930f9
 158806').innerHTML += '<a title="E-Mail an Organisator Klemens" ' + path + 
 '\'' + prefix + ':' + addy066dcd1ba80f3d0a9b6e3930f9158806 + '\' target="_b
 lank">'+addy_text066dcd1ba80f3d0a9b6e3930f9158806+'<\/a>';
		</script></p>
DTSTAMP:20260425T230408
DTSTART;TZID=Europe/Berlin:20241109T190000
SEQUENCE:0
TRANSP:OPAQUE
END:VEVENT
END:VCALENDAR