BEGIN:VCALENDAR
VERSION:2.0
PRODID:-//jEvents 2.0 for Joomla//EN
CALSCALE:GREGORIAN
METHOD:PUBLISH
BEGIN:VTIMEZONE
TZID:Europe/Berlin
BEGIN:STANDARD
DTSTART:20231029T020000
RDATE:20240331T030000
TZOFFSETFROM:+0200
TZOFFSETTO:+0100
TZNAME:Europe/Berlin CET
END:STANDARD
BEGIN:STANDARD
DTSTART:20241027T020000
RDATE:20250330T030000
TZOFFSETFROM:+0200
TZOFFSETTO:+0100
TZNAME:Europe/Berlin CET
END:STANDARD
BEGIN:STANDARD
DTSTART:20251026T020000
RDATE:20260329T030000
TZOFFSETFROM:+0200
TZOFFSETTO:+0100
TZNAME:Europe/Berlin CET
END:STANDARD
BEGIN:STANDARD
DTSTART:20261025T020000
RDATE:20270328T030000
TZOFFSETFROM:+0200
TZOFFSETTO:+0100
TZNAME:Europe/Berlin CET
END:STANDARD
BEGIN:STANDARD
DTSTART:20271031T020000
RDATE:20280326T030000
TZOFFSETFROM:+0200
TZOFFSETTO:+0100
TZNAME:Europe/Berlin CET
END:STANDARD
BEGIN:STANDARD
DTSTART:20281029T020000
RDATE:20290325T030000
TZOFFSETFROM:+0200
TZOFFSETTO:+0100
TZNAME:Europe/Berlin CET
END:STANDARD
BEGIN:STANDARD
DTSTART:20291028T020000
RDATE:20300331T030000
TZOFFSETFROM:+0200
TZOFFSETTO:+0100
TZNAME:Europe/Berlin CET
END:STANDARD
BEGIN:STANDARD
DTSTART:20301027T020000
RDATE:20310330T030000
TZOFFSETFROM:+0200
TZOFFSETTO:+0100
TZNAME:Europe/Berlin CET
END:STANDARD
BEGIN:STANDARD
DTSTART:20311026T020000
RDATE:20320328T030000
TZOFFSETFROM:+0200
TZOFFSETTO:+0100
TZNAME:Europe/Berlin CET
END:STANDARD
BEGIN:DAYLIGHT
DTSTART:20230504T000000
RDATE:20231029T020000
TZOFFSETFROM:+0100
TZOFFSETTO:+0200
TZNAME:Europe/Berlin CEST
END:DAYLIGHT
BEGIN:DAYLIGHT
DTSTART:20240331T030000
RDATE:20241027T020000
TZOFFSETFROM:+0100
TZOFFSETTO:+0200
TZNAME:Europe/Berlin CEST
END:DAYLIGHT
BEGIN:DAYLIGHT
DTSTART:20250330T030000
RDATE:20251026T020000
TZOFFSETFROM:+0100
TZOFFSETTO:+0200
TZNAME:Europe/Berlin CEST
END:DAYLIGHT
BEGIN:DAYLIGHT
DTSTART:20260329T030000
RDATE:20261025T020000
TZOFFSETFROM:+0100
TZOFFSETTO:+0200
TZNAME:Europe/Berlin CEST
END:DAYLIGHT
BEGIN:DAYLIGHT
DTSTART:20270328T030000
RDATE:20271031T020000
TZOFFSETFROM:+0100
TZOFFSETTO:+0200
TZNAME:Europe/Berlin CEST
END:DAYLIGHT
BEGIN:DAYLIGHT
DTSTART:20280326T030000
RDATE:20281029T020000
TZOFFSETFROM:+0100
TZOFFSETTO:+0200
TZNAME:Europe/Berlin CEST
END:DAYLIGHT
BEGIN:DAYLIGHT
DTSTART:20290325T030000
RDATE:20291028T020000
TZOFFSETFROM:+0100
TZOFFSETTO:+0200
TZNAME:Europe/Berlin CEST
END:DAYLIGHT
BEGIN:DAYLIGHT
DTSTART:20300331T030000
RDATE:20301027T020000
TZOFFSETFROM:+0100
TZOFFSETTO:+0200
TZNAME:Europe/Berlin CEST
END:DAYLIGHT
BEGIN:DAYLIGHT
DTSTART:20310330T030000
RDATE:20311026T020000
TZOFFSETFROM:+0100
TZOFFSETTO:+0200
TZNAME:Europe/Berlin CEST
END:DAYLIGHT
END:VTIMEZONE
BEGIN:VEVENT
UID:fbbeaeada00065dae08203d8a2e5b116
CATEGORIES:Wildwasser-Touren
CREATED:20240104T174234
SUMMARY:WW I Kurs in Hüningen für Beginner
DESCRIPTION:Fahrtenleiter: Sportwart Ulrich Richter\n (mailto:sportwart@fff-freiburg.de
 ?subject=FFF:%20WW%20I%20Kurs%20für%20Beginner)\nAnmeldung bis: 22.04.2024\
 nVorbesprechung: 22.04.2024\nWildwasser I Kurs für Beginner \n\nTraining.\n
               Voraussetzung: Ihr beherrscht Vorwärts- und Bogenschlag und k
 önnt Euer Boot auf der Kante fahren.\n                       Teilnehmer: ma
 x. 5\n                                 Termin: Samstag 04.05.2024 um 9 Uhr 
 bis 18 Uhr\n                    Anmeldung: bis 22.04.2024 bei Ulrich Richte
 r über Diese E-Mail-Adresse ist vor Spambots geschützt! Zur Anzeige muss Ja
 vaScript eingeschaltet sein!
				document.getElementById('cloak1d9a1e0796a3
 a0043e965e01b142b5e0').innerHTML = '';
				var prefix = '&#109;a' + 'i&#108
 ;' + '&#116;o';
				var path = 'hr' + 'ef' + '=';
				var addy1d9a1e0796a3a
 0043e965e01b142b5e0 = 'sp&#111;rtw&#97;rt' + '&#64;';
				addy1d9a1e0796a3a
 0043e965e01b142b5e0 = addy1d9a1e0796a3a0043e965e01b142b5e0 + 'fff-fr&#101;&
 #105;b&#117;rg' + '&#46;' + 'd&#101;?s&#117;bj&#101;ct=FFF:%20WW-I-K&#117;r
 s%20H&uuml;n&#105;ng&#101;n';
				var addy_text1d9a1e0796a3a0043e965e01b142
 b5e0 = 'sp&#111;rtw&#97;rt' + '&#64;' + 'fff-fr&#101;&#105;b&#117;rg' + '&#
 46;' + 'd&#101;';document.getElementById('cloak1d9a1e0796a3a0043e965e01b142
 b5e0').innerHTML += '<a title="E-Mail an Sportwart Ulrich" ' + path + '\'' 
 + prefix + ':' + addy1d9a1e0796a3a0043e965e01b142b5e0 + '\' target="_blank"
 >'+addy_text1d9a1e0796a3a0043e965e01b142b5e0+'';
		\nFahrtenbesprechung: am
  22.04.2024 um 20 Uhr am Bootslager\nDieser Tag ist Teil einer Reihe von dr
 ei Terminen. WW I, WW II und WW II-III. Die Termine bauen auf­einander auf,
  aber ihr könnt jederzeit ein- bzw. aus­steigen.\nWW I:\nIhr habt das Train
 ing im letzten Jahr auf dem See mitgemacht, aber Strömung ist für Euch noch
  etwas ungewohnt. Dann ist dieser Tag für Euch. Wir treffen uns am Bootshau
 s und verteilen die Ausrüstung. Dann geht’s nach Hüningen zum Wildwasserkan
 al oder an die Isteiner Schwelle. An beiden Orten können wir üben, mit Strö
 mung umzugehen. Lerninhalt wird das Kehrwasserfahren und die Seilfähre sein
 . Für beides müsst ihr Euer Boot auf der Kante fahren können. Beim Üben ver
 lassen wir die Komfortzone, d. h. ihr könnt dabei richtig nass werden.\nKle
 idet Euch entsprechend. Dress for water!\nDer Tag wird sich in ca. 2 Einhei
 ten à 2 Stunden auf dem Wasser aufteilen. Ich hoffe, wir haben gutes Wetter
  und können zwischendrin gemütlich ein Picknick machen.\nIch freu mich auf 
 Euch\nUlrich\n \n Fahrtenleiter Diese E-Mail-Adresse ist vor Spambots gesch
 ützt! Zur Anzeige muss JavaScript eingeschaltet sein!
				document.getEleme
 ntById('cloakfb9ca7251ef8b13fe41e7e2289615c30').innerHTML = '';
				var pre
 fix = '&#109;a' + 'i&#108;' + '&#116;o';
				var path = 'hr' + 'ef' + '=';

 				var addyfb9ca7251ef8b13fe41e7e2289615c30 = 'sp&#111;rtw&#97;rt' + '&#64
 ;';
				addyfb9ca7251ef8b13fe41e7e2289615c30 = addyfb9ca7251ef8b13fe41e7e22
 89615c30 + 'fff-fr&#101;&#105;b&#117;rg' + '&#46;' + 'd&#101;?s&#117;bj&#10
 1;ct=FFF:%20WW%20I%20K&#117;rs%20f&uuml;r%20B&#101;g&#105;nn&#101;r';
				v
 ar addy_textfb9ca7251ef8b13fe41e7e2289615c30 = 'Ulr&#105;ch R&#105;cht&#101
 ;r';document.getElementById('cloakfb9ca7251ef8b13fe41e7e2289615c30').innerH
 TML += '<a title="E-Mail an Sportwart" ' + path + '\'' + prefix + ':' + add
 yfb9ca7251ef8b13fe41e7e2289615c30 + '\' target="_blank">'+addy_textfb9ca725
 1ef8b13fe41e7e2289615c30+'';
		 melden.\n \n                               
     \n \n
X-ALT-DESC;FMTTYPE=text/html:<p style="text-align: right;"><strong><span style="color: #3366ff;">Fahrten
 leiter:</span></strong> Sportwart <a title="E-Mail an Sportwart" href="mail
 to:sportwart@fff-freiburg.de?subject=FFF:%20WW%20I%20Kurs%20für%20Beginner"
  target="_blank">Ulrich Richter<br /></a></p><p><strong>Anmeldung bis:</str
 ong> 22.04.2024</p><p><strong>Vorbesprechung:</strong> 22.04.2024</p><p sty
 le="text-align: center;"><span style="font-family: comic sans ms, sans-seri
 f; font-size: 18pt; color: #00ccff;">Wildwasser I Kurs für Beginner <br /><
 /span></p><p>Training.</p><p><strong>&nbsp;&nbsp;&nbsp;&nbsp;&nbsp;&nbsp;&n
 bsp;&nbsp;&nbsp;&nbsp;&nbsp;&nbsp;&nbsp; Voraussetzung: </strong>Ihr beherr
 scht Vorwärts- und Bogenschlag und könnt Euer Boot auf der Kante fahren.</p
 ><p><strong>&nbsp;&nbsp;&nbsp;&nbsp;&nbsp;&nbsp; &nbsp; &nbsp; &nbsp; &nbsp
 ; &nbsp; &nbsp; &nbsp; &nbsp; Teilnehmer:</strong> max. 5</p><p><strong>&nb
 sp;&nbsp;&nbsp;&nbsp;&nbsp;&nbsp;&nbsp;&nbsp;&nbsp;&nbsp;&nbsp;&nbsp;&nbsp;
 &nbsp; &nbsp; &nbsp; &nbsp; &nbsp; &nbsp; &nbsp; &nbsp; &nbsp; &nbsp; Termi
 n:</strong> Samstag 04.05.2024 um 9 Uhr bis 18 Uhr</p><p>&nbsp; &nbsp; &nbs
 p; &nbsp; &nbsp; &nbsp; &nbsp; &nbsp; &nbsp; &nbsp; <strong>Anmeldung: </st
 rong>bis<strong> 22.04.2024</strong> bei Ulrich Richter über <span id="cloa
 k1d9a1e0796a3a0043e965e01b142b5e0">Diese E-Mail-Adresse ist vor Spambots ge
 schützt! Zur Anzeige muss JavaScript eingeschaltet sein!</span><script type
 ='text/javascript'>
				document.getElementById('cloak1d9a1e0796a3a0043e965
 e01b142b5e0').innerHTML = '';
				var prefix = '&#109;a' + 'i&#108;' + '&#1
 16;o';
				var path = 'hr' + 'ef' + '=';
				var addy1d9a1e0796a3a0043e965e
 01b142b5e0 = 'sp&#111;rtw&#97;rt' + '&#64;';
				addy1d9a1e0796a3a0043e965e
 01b142b5e0 = addy1d9a1e0796a3a0043e965e01b142b5e0 + 'fff-fr&#101;&#105;b&#1
 17;rg' + '&#46;' + 'd&#101;?s&#117;bj&#101;ct=FFF:%20WW-I-K&#117;rs%20H&uum
 l;n&#105;ng&#101;n';
				var addy_text1d9a1e0796a3a0043e965e01b142b5e0 = 's
 p&#111;rtw&#97;rt' + '&#64;' + 'fff-fr&#101;&#105;b&#117;rg' + '&#46;' + 'd
 &#101;';document.getElementById('cloak1d9a1e0796a3a0043e965e01b142b5e0').in
 nerHTML += '<a title="E-Mail an Sportwart Ulrich" ' + path + '\'' + prefix 
 + ':' + addy1d9a1e0796a3a0043e965e01b142b5e0 + '\' target="_blank">'+addy_t
 ext1d9a1e0796a3a0043e965e01b142b5e0+'<\/a>';
		</script></p><p><strong>Fahr
 tenbesprechung:</strong> am 22.04.2024 um 20 Uhr am Bootslager</p><p>Dieser
  Tag ist Teil einer Reihe von drei Terminen. WW I, WW II und WW II-III. Die
  Termine bauen auf­einander auf, aber ihr könnt jederzeit ein- bzw. aus­ste
 igen.</p><p><strong>WW I:</strong></p><p>Ihr habt das Training im letzten J
 ahr auf dem See mitgemacht, aber Strömung ist für Euch noch etwas ungewohnt
 . Dann ist dieser Tag für Euch. Wir treffen uns am Bootshaus und verteilen 
 die Ausrüstung. Dann geht’s nach Hüningen zum Wildwasserkanal oder an die I
 steiner Schwelle. An beiden Orten können wir üben, mit Strömung umzugehen. 
 Lerninhalt wird das Kehrwasserfahren und die Seilfähre sein. Für beides müs
 st ihr Euer Boot auf der Kante fahren können. Beim Üben verlassen wir die K
 omfortzone, d.&nbsp;h. ihr könnt dabei richtig nass werden.</p><p>Kleidet E
 uch entsprechend. Dress for water!</p><p>Der Tag wird sich in ca. 2 Einheit
 en à 2 Stunden auf dem Wasser aufteilen. Ich hoffe, wir haben gutes Wetter 
 und können zwischendrin gemütlich ein Picknick machen.</p><p>Ich freu mich 
 auf Euch</p><p style="padding-left: 180px;"><span style="font-family: comic
  sans ms, sans-serif; font-size: 14pt;">Ulrich</span></p><p>&nbsp;</p><p>&n
 bsp;Fahrtenleiter <span id="cloakfb9ca7251ef8b13fe41e7e2289615c30">Diese E-
 Mail-Adresse ist vor Spambots geschützt! Zur Anzeige muss JavaScript einges
 chaltet sein!</span><script type='text/javascript'>
				document.getElement
 ById('cloakfb9ca7251ef8b13fe41e7e2289615c30').innerHTML = '';
				var prefi
 x = '&#109;a' + 'i&#108;' + '&#116;o';
				var path = 'hr' + 'ef' + '=';
		
 		var addyfb9ca7251ef8b13fe41e7e2289615c30 = 'sp&#111;rtw&#97;rt' + '&#64;'
 ;
				addyfb9ca7251ef8b13fe41e7e2289615c30 = addyfb9ca7251ef8b13fe41e7e2289
 615c30 + 'fff-fr&#101;&#105;b&#117;rg' + '&#46;' + 'd&#101;?s&#117;bj&#101;
 ct=FFF:%20WW%20I%20K&#117;rs%20f&uuml;r%20B&#101;g&#105;nn&#101;r';
				var
  addy_textfb9ca7251ef8b13fe41e7e2289615c30 = 'Ulr&#105;ch R&#105;cht&#101;r
 ';document.getElementById('cloakfb9ca7251ef8b13fe41e7e2289615c30').innerHTM
 L += '<a title="E-Mail an Sportwart" ' + path + '\'' + prefix + ':' + addyf
 b9ca7251ef8b13fe41e7e2289615c30 + '\' target="_blank">'+addy_textfb9ca7251e
 f8b13fe41e7e2289615c30+'<\/a>';
		</script> melden.</p><p>&nbsp;</p><p>&nbs
 p;&nbsp;&nbsp;&nbsp;&nbsp;&nbsp;&nbsp;&nbsp;&nbsp;&nbsp;&nbsp;&nbsp;&nbsp;&
 nbsp;&nbsp;&nbsp;&nbsp;&nbsp;&nbsp;&nbsp;&nbsp;&nbsp;&nbsp;&nbsp;&nbsp;&nbs
 p;&nbsp;&nbsp;&nbsp;&nbsp;&nbsp;&nbsp;&nbsp;&nbsp;&nbsp;</p><p>&nbsp;</p>
DTSTAMP:20260425T182150
DTSTART;TZID=Europe/Berlin;VALUE=DATE:20240504
DTEND;TZID=Europe/Berlin;VALUE=DATE:20240505
SEQUENCE:0
TRANSP:OPAQUE
END:VEVENT
END:VCALENDAR