BEGIN:VCALENDAR
VERSION:2.0
PRODID:-//jEvents 2.0 for Joomla//EN
CALSCALE:GREGORIAN
METHOD:PUBLISH
BEGIN:VTIMEZONE
TZID:Europe/Berlin
BEGIN:STANDARD
DTSTART:20241107T100000
RDATE:20250330T030000
TZOFFSETFROM:+0200
TZOFFSETTO:+0100
TZNAME:Europe/Berlin CET
END:STANDARD
BEGIN:STANDARD
DTSTART:20251026T020000
RDATE:20260329T030000
TZOFFSETFROM:+0200
TZOFFSETTO:+0100
TZNAME:Europe/Berlin CET
END:STANDARD
BEGIN:STANDARD
DTSTART:20261025T020000
RDATE:20270328T030000
TZOFFSETFROM:+0200
TZOFFSETTO:+0100
TZNAME:Europe/Berlin CET
END:STANDARD
BEGIN:STANDARD
DTSTART:20271031T020000
RDATE:20280326T030000
TZOFFSETFROM:+0200
TZOFFSETTO:+0100
TZNAME:Europe/Berlin CET
END:STANDARD
BEGIN:STANDARD
DTSTART:20281029T020000
RDATE:20290325T030000
TZOFFSETFROM:+0200
TZOFFSETTO:+0100
TZNAME:Europe/Berlin CET
END:STANDARD
BEGIN:STANDARD
DTSTART:20291028T020000
RDATE:20300331T030000
TZOFFSETFROM:+0200
TZOFFSETTO:+0100
TZNAME:Europe/Berlin CET
END:STANDARD
BEGIN:STANDARD
DTSTART:20301027T020000
RDATE:20310330T030000
TZOFFSETFROM:+0200
TZOFFSETTO:+0100
TZNAME:Europe/Berlin CET
END:STANDARD
BEGIN:STANDARD
DTSTART:20311026T020000
RDATE:20320328T030000
TZOFFSETFROM:+0200
TZOFFSETTO:+0100
TZNAME:Europe/Berlin CET
END:STANDARD
BEGIN:DAYLIGHT
DTSTART:20250330T030000
RDATE:20251026T020000
TZOFFSETFROM:+0100
TZOFFSETTO:+0200
TZNAME:Europe/Berlin CEST
END:DAYLIGHT
BEGIN:DAYLIGHT
DTSTART:20260329T030000
RDATE:20261025T020000
TZOFFSETFROM:+0100
TZOFFSETTO:+0200
TZNAME:Europe/Berlin CEST
END:DAYLIGHT
BEGIN:DAYLIGHT
DTSTART:20270328T030000
RDATE:20271031T020000
TZOFFSETFROM:+0100
TZOFFSETTO:+0200
TZNAME:Europe/Berlin CEST
END:DAYLIGHT
BEGIN:DAYLIGHT
DTSTART:20280326T030000
RDATE:20281029T020000
TZOFFSETFROM:+0100
TZOFFSETTO:+0200
TZNAME:Europe/Berlin CEST
END:DAYLIGHT
BEGIN:DAYLIGHT
DTSTART:20290325T030000
RDATE:20291028T020000
TZOFFSETFROM:+0100
TZOFFSETTO:+0200
TZNAME:Europe/Berlin CEST
END:DAYLIGHT
BEGIN:DAYLIGHT
DTSTART:20300331T030000
RDATE:20301027T020000
TZOFFSETFROM:+0100
TZOFFSETTO:+0200
TZNAME:Europe/Berlin CEST
END:DAYLIGHT
BEGIN:DAYLIGHT
DTSTART:20310330T030000
RDATE:20311026T020000
TZOFFSETFROM:+0100
TZOFFSETTO:+0200
TZNAME:Europe/Berlin CEST
END:DAYLIGHT
END:VTIMEZONE
BEGIN:VEVENT
UID:4ae7187d4cba54225a4bb1e23b65f0ab
CATEGORIES:Regio-Touren, Wanderpaddeln, Wildwasser-Touren, Kanupolo, Seekajak-Touren, Sonstiges, Jugend-Touren
CREATED:20250925T005053
SUMMARY:"Klar Schiff" im Bootslager
DESCRIPTION:Organisator: Diese E-Mail-Adresse ist vor Spambots geschützt! Zur Anzeige m
 uss JavaScript eingeschaltet sein!
				document.getElementById('cloak04502a
 e9dae8e8dfc5cd4cf7d017aa52').innerHTML = '';
				var prefix = '&#109;a' + '
 i&#108;' + '&#116;o';
				var path = 'hr' + 'ef' + '=';
				var addy04502ae
 9dae8e8dfc5cd4cf7d017aa52 = 'v&#111;rst&#97;nd.k&#97;rl-fr&#105;&#101;dr&#1
 05;ch' + '&#64;';
				addy04502ae9dae8e8dfc5cd4cf7d017aa52 = addy04502ae9da
 e8e8dfc5cd4cf7d017aa52 + 'fff-fr&#101;&#105;b&#117;rg' + '&#46;' + 'd&#101;
 ?s&#117;bj&#101;ct=FFF:%20Kl&#97;r%20Sch&#105;ff%20&#105;m%20B&#111;&#111;t
 sl&#97;g&#101;r';
				var addy_text04502ae9dae8e8dfc5cd4cf7d017aa52 = 'K&#9
 7;rl-Fr&#105;&#101;dr&#105;ch St&uuml;lpn&#97;g&#101;l';document.getElement
 ById('cloak04502ae9dae8e8dfc5cd4cf7d017aa52').innerHTML += '<a title="E-Mai
 l an Organisator Karl-Friedrich (KF)" ' + path + '\'' + prefix + ':' + addy
 04502ae9dae8e8dfc5cd4cf7d017aa52 + '\' target="_blank">'+addy_text04502ae9d
 ae8e8dfc5cd4cf7d017aa52+'';
		\nHallo zusammen,\nheute treffen wir uns, um 
 unser Bootslager am Opfi für die etwas ruhigere Paddelzeit herzurichten: Au
 ssortieren, putzen, Platz schaffen, im Winter nicht benötigte Dinge eher na
 ch hinten räumen ...\nAufgaben und Material zur Reinigung stellt der Verein
  zur Verfügung. Wir brauchen nur EUCH zur Mithilfe. Hast auch Du Zeit und L
 ust?\nDann melde Dich bitte bei mir an, so kann ich besser planen: Diese E-
 Mail-Adresse ist vor Spambots geschützt! Zur Anzeige muss JavaScript einges
 chaltet sein!
				document.getElementById('cloakbb9b31872fc902925255e7ac816
 dab26').innerHTML = '';
				var prefix = '&#109;a' + 'i&#108;' + '&#116;o';
 
				var path = 'hr' + 'ef' + '=';
				var addybb9b31872fc902925255e7ac816d
 ab26 = 'v&#111;rst&#97;nd.k&#97;rl-fr&#105;&#101;dr&#105;ch' + '&#64;';
			
 	addybb9b31872fc902925255e7ac816dab26 = addybb9b31872fc902925255e7ac816dab2
 6 + 'fff-fr&#101;&#105;b&#117;rg' + '&#46;' + 'd&#101;?s&#117;bj&#101;ct=FF
 F:%20Kl&#97;r%20Sch&#105;ff%20&#105;m%20B&#111;&#111;tsl&#97;g&#101;r';
			
 	var addy_textbb9b31872fc902925255e7ac816dab26 = 'v&#111;rst&#97;nd.k&#97;r
 l-fr&#105;&#101;dr&#105;ch' + '&#64;' + 'fff-fr&#101;&#105;b&#117;rg' + '&#
 46;' + 'd&#101;';document.getElementById('cloakbb9b31872fc902925255e7ac816d
 ab26').innerHTML += '<a title="E-Mail an Karl-Friedrich (KF)" ' + path + '\
 '' + prefix + ':' + addybb9b31872fc902925255e7ac816dab26 + '\' target="_bla
 nk">'+addy_textbb9b31872fc902925255e7ac816dab26+'';
		\nUhrzeit: 10 Uhr am 
 Bootslager\nUm Kaffee und Kuchen für danach wird gebeten.\n                
  Euer Karl-Friedrich (KF)\n
X-ALT-DESC;FMTTYPE=text/html:<p style="text-align: right;"><strong><span style="color: #3366ff;">Organis
 ator:</span></strong> <span id="cloak04502ae9dae8e8dfc5cd4cf7d017aa52">Dies
 e E-Mail-Adresse ist vor Spambots geschützt! Zur Anzeige muss JavaScript ei
 ngeschaltet sein!</span><script type='text/javascript'>
				document.getEle
 mentById('cloak04502ae9dae8e8dfc5cd4cf7d017aa52').innerHTML = '';
				var p
 refix = '&#109;a' + 'i&#108;' + '&#116;o';
				var path = 'hr' + 'ef' + '='
 ;
				var addy04502ae9dae8e8dfc5cd4cf7d017aa52 = 'v&#111;rst&#97;nd.k&#97;r
 l-fr&#105;&#101;dr&#105;ch' + '&#64;';
				addy04502ae9dae8e8dfc5cd4cf7d017
 aa52 = addy04502ae9dae8e8dfc5cd4cf7d017aa52 + 'fff-fr&#101;&#105;b&#117;rg'
  + '&#46;' + 'd&#101;?s&#117;bj&#101;ct=FFF:%20Kl&#97;r%20Sch&#105;ff%20&#1
 05;m%20B&#111;&#111;tsl&#97;g&#101;r';
				var addy_text04502ae9dae8e8dfc5c
 d4cf7d017aa52 = 'K&#97;rl-Fr&#105;&#101;dr&#105;ch St&uuml;lpn&#97;g&#101;l
 ';document.getElementById('cloak04502ae9dae8e8dfc5cd4cf7d017aa52').innerHTM
 L += '<a title="E-Mail an Organisator Karl-Friedrich (KF)" ' + path + '\'' 
 + prefix + ':' + addy04502ae9dae8e8dfc5cd4cf7d017aa52 + '\' target="_blank"
 >'+addy_text04502ae9dae8e8dfc5cd4cf7d017aa52+'<\/a>';
		</script></p><p>Hal
 lo zusammen,</p><p>heute treffen wir uns, um unser Bootslager am Opfi für d
 ie etwas ruhigere Paddelzeit herzurichten: Aussortieren, putzen, Platz scha
 ffen, im Winter nicht benötigte Dinge eher nach hinten räumen ...</p><p>Auf
 gaben und Material zur Reinigung stellt der Verein zur Verfügung. Wir brauc
 hen nur EUCH zur Mithilfe. Hast auch Du Zeit und Lust?</p><p>Dann melde Dic
 h bitte bei mir an, so kann ich besser planen: <span id="cloakbb9b31872fc90
 2925255e7ac816dab26">Diese E-Mail-Adresse ist vor Spambots geschützt! Zur A
 nzeige muss JavaScript eingeschaltet sein!</span><script type='text/javascr
 ipt'>
				document.getElementById('cloakbb9b31872fc902925255e7ac816dab26').
 innerHTML = '';
				var prefix = '&#109;a' + 'i&#108;' + '&#116;o';
				var
  path = 'hr' + 'ef' + '=';
				var addybb9b31872fc902925255e7ac816dab26 = '
 v&#111;rst&#97;nd.k&#97;rl-fr&#105;&#101;dr&#105;ch' + '&#64;';
				addybb9
 b31872fc902925255e7ac816dab26 = addybb9b31872fc902925255e7ac816dab26 + 'fff
 -fr&#101;&#105;b&#117;rg' + '&#46;' + 'd&#101;?s&#117;bj&#101;ct=FFF:%20Kl&
 #97;r%20Sch&#105;ff%20&#105;m%20B&#111;&#111;tsl&#97;g&#101;r';
				var add
 y_textbb9b31872fc902925255e7ac816dab26 = 'v&#111;rst&#97;nd.k&#97;rl-fr&#10
 5;&#101;dr&#105;ch' + '&#64;' + 'fff-fr&#101;&#105;b&#117;rg' + '&#46;' + '
 d&#101;';document.getElementById('cloakbb9b31872fc902925255e7ac816dab26').i
 nnerHTML += '<a title="E-Mail an Karl-Friedrich (KF)" ' + path + '\'' + pre
 fix + ':' + addybb9b31872fc902925255e7ac816dab26 + '\' target="_blank">'+ad
 dy_textbb9b31872fc902925255e7ac816dab26+'<\/a>';
		</script></p><p><b>Uhrze
 it:</b> 10 Uhr am Bootslager</p><p>Um Kaffee und Kuchen für danach wird geb
 eten.</p><p>&nbsp; &nbsp; &nbsp; &nbsp; &nbsp; &nbsp; &nbsp; &nbsp; &nbsp;E
 uer <span style="font-family: comic sans ms, sans-serif;">Karl-Friedrich (K
 F)</span></p>
DTSTAMP:20260423T095801
DTSTART;TZID=Europe/Berlin:20251108T100000
SEQUENCE:0
TRANSP:OPAQUE
END:VEVENT
END:VCALENDAR