BEGIN:VCALENDAR
VERSION:2.0
PRODID:-//jEvents 2.0 for Joomla//EN
CALSCALE:GREGORIAN
METHOD:PUBLISH
BEGIN:VTIMEZONE
TZID:Europe/Berlin
BEGIN:STANDARD
DTSTART:20241205T150000
RDATE:20250330T030000
TZOFFSETFROM:+0200
TZOFFSETTO:+0100
TZNAME:Europe/Berlin CET
END:STANDARD
BEGIN:STANDARD
DTSTART:20251026T020000
RDATE:20260329T030000
TZOFFSETFROM:+0200
TZOFFSETTO:+0100
TZNAME:Europe/Berlin CET
END:STANDARD
BEGIN:STANDARD
DTSTART:20261025T020000
RDATE:20270328T030000
TZOFFSETFROM:+0200
TZOFFSETTO:+0100
TZNAME:Europe/Berlin CET
END:STANDARD
BEGIN:STANDARD
DTSTART:20271031T020000
RDATE:20280326T030000
TZOFFSETFROM:+0200
TZOFFSETTO:+0100
TZNAME:Europe/Berlin CET
END:STANDARD
BEGIN:STANDARD
DTSTART:20281029T020000
RDATE:20290325T030000
TZOFFSETFROM:+0200
TZOFFSETTO:+0100
TZNAME:Europe/Berlin CET
END:STANDARD
BEGIN:STANDARD
DTSTART:20291028T020000
RDATE:20300331T030000
TZOFFSETFROM:+0200
TZOFFSETTO:+0100
TZNAME:Europe/Berlin CET
END:STANDARD
BEGIN:STANDARD
DTSTART:20301027T020000
RDATE:20310330T030000
TZOFFSETFROM:+0200
TZOFFSETTO:+0100
TZNAME:Europe/Berlin CET
END:STANDARD
BEGIN:STANDARD
DTSTART:20311026T020000
RDATE:20320328T030000
TZOFFSETFROM:+0200
TZOFFSETTO:+0100
TZNAME:Europe/Berlin CET
END:STANDARD
BEGIN:DAYLIGHT
DTSTART:20250330T030000
RDATE:20251026T020000
TZOFFSETFROM:+0100
TZOFFSETTO:+0200
TZNAME:Europe/Berlin CEST
END:DAYLIGHT
BEGIN:DAYLIGHT
DTSTART:20260329T030000
RDATE:20261025T020000
TZOFFSETFROM:+0100
TZOFFSETTO:+0200
TZNAME:Europe/Berlin CEST
END:DAYLIGHT
BEGIN:DAYLIGHT
DTSTART:20270328T030000
RDATE:20271031T020000
TZOFFSETFROM:+0100
TZOFFSETTO:+0200
TZNAME:Europe/Berlin CEST
END:DAYLIGHT
BEGIN:DAYLIGHT
DTSTART:20280326T030000
RDATE:20281029T020000
TZOFFSETFROM:+0100
TZOFFSETTO:+0200
TZNAME:Europe/Berlin CEST
END:DAYLIGHT
BEGIN:DAYLIGHT
DTSTART:20290325T030000
RDATE:20291028T020000
TZOFFSETFROM:+0100
TZOFFSETTO:+0200
TZNAME:Europe/Berlin CEST
END:DAYLIGHT
BEGIN:DAYLIGHT
DTSTART:20300331T030000
RDATE:20301027T020000
TZOFFSETFROM:+0100
TZOFFSETTO:+0200
TZNAME:Europe/Berlin CEST
END:DAYLIGHT
BEGIN:DAYLIGHT
DTSTART:20310330T030000
RDATE:20311026T020000
TZOFFSETFROM:+0100
TZOFFSETTO:+0200
TZNAME:Europe/Berlin CEST
END:DAYLIGHT
END:VTIMEZONE
BEGIN:VEVENT
UID:90e6815b42b087d1dfa1799e8ca9d1af
CATEGORIES:Regio-Touren, Wanderpaddeln, Wildwasser-Touren, Seekajak-Touren, Sonstiges, Jugend-Touren
CREATED:20251006T002348
SUMMARY:Gemütlicher FFF-Adventshock mit Film-Highlight
DESCRIPTION:Organisator: Diese E-Mail-Adresse ist vor Spambots geschützt! Zur Anzeige m
 uss JavaScript eingeschaltet sein!
				document.getElementById('cloakdd9cc5
 0189cf127f25eab3da9539260b').innerHTML = '';
				var prefix = '&#109;a' + '
 i&#108;' + '&#116;o';
				var path = 'hr' + 'ef' + '=';
				var addydd9cc50
 189cf127f25eab3da9539260b = 'gf-v&#111;rst&#97;nd' + '&#64;';
				addydd9cc
 50189cf127f25eab3da9539260b = addydd9cc50189cf127f25eab3da9539260b + 'fff-f
 r&#101;&#105;b&#117;rg' + '&#46;' + 'd&#101;?s&#117;bj&#101;ct=FFF:%20Adv&#
 101;ntsh&#111;ck';
				var addy_textdd9cc50189cf127f25eab3da9539260b = 'V&#
 111;rst&#97;nd';document.getElementById('cloakdd9cc50189cf127f25eab3da95392
 60b').innerHTML += '<a title="E-Mail an Adventshock-Organisatoren" ' + path
  + '\'' + prefix + ':' + addydd9cc50189cf127f25eab3da9539260b + '\' target=
 "_blank">'+addy_textdd9cc50189cf127f25eab3da9539260b+'';
		\nGemütlicher FF
 F-Adventshock \nmit schönen Bildern zum Jahresrückblick sowie spektakulären
  Island-Bildern\n \nLos gehts mit unserem Adventshock am 6. Dezember ab 15 
 Uhr an bzw. in der warmen Forsthütte am Opfi. Ihr dürft gerne Kuchen, Kekse
 , Obstsalat oder andere Leckereien mitbringen - und x Kilo gute Laune. So w
 irds garantiert fff-like -  frisch, fröhlich, fotoreich 😊.\nVor allem fotor
 eich, da – sobald es etwas dunkler wird – uns unsere Jugendwarte Jessi &amp
 ; Philipp mit\nspektakulären Bildern mitnehmen auf Ihr diesjährigers Wildwa
 sser-Abenteuer auf Island \nDas verspricht: Spannung pur!\nFür den abendlic
 hen Heißhunger ist auch gesorgt, denn wir runden den Abend mit Kartoffelsal
 at &amp; Würstle ab. \nAlso gleich einplanen im Kalender - am 6.12. zum FFF
 -Adventshock, dieses Mal so ganz ohne Nikolausi, der hat nämlich Ferien, da
 für aber mit viel Paddler-Spaß beim Zusammensitzen und gemeinsam echt tolle
  Bilder gucken.\nEgal, ob Sonne, Regen, Schnee ...\nauf, auf, komm auch Du,
  damit wir viele werden ... \ndenn nur in der Gruppe wirds luschtig – da le
 bt die Paddlers-Freundschaft 🤸♀️! \n \n \n \n
X-ALT-DESC;FMTTYPE=text/html:<p style="text-align: right;"><strong><span style="color: #3366ff;">Organis
 ator:</span></strong> <span id="cloakdd9cc50189cf127f25eab3da9539260b">Dies
 e E-Mail-Adresse ist vor Spambots geschützt! Zur Anzeige muss JavaScript ei
 ngeschaltet sein!</span><script type='text/javascript'>
				document.getEle
 mentById('cloakdd9cc50189cf127f25eab3da9539260b').innerHTML = '';
				var p
 refix = '&#109;a' + 'i&#108;' + '&#116;o';
				var path = 'hr' + 'ef' + '='
 ;
				var addydd9cc50189cf127f25eab3da9539260b = 'gf-v&#111;rst&#97;nd' + '
 &#64;';
				addydd9cc50189cf127f25eab3da9539260b = addydd9cc50189cf127f25ea
 b3da9539260b + 'fff-fr&#101;&#105;b&#117;rg' + '&#46;' + 'd&#101;?s&#117;bj
 &#101;ct=FFF:%20Adv&#101;ntsh&#111;ck';
				var addy_textdd9cc50189cf127f25
 eab3da9539260b = 'V&#111;rst&#97;nd';document.getElementById('cloakdd9cc501
 89cf127f25eab3da9539260b').innerHTML += '<a title="E-Mail an Adventshock-Or
 ganisatoren" ' + path + '\'' + prefix + ':' + addydd9cc50189cf127f25eab3da9
 539260b + '\' target="_blank">'+addy_textdd9cc50189cf127f25eab3da9539260b+'
 <\/a>';
		</script></p><p style="text-align: center;"><span style="font-siz
 e: 24pt;"><span style="color: #008000;"><strong>Gemütlicher</strong> </span
 ><span style="color: #008000; font-size: 36pt;"><strong>FFF</strong>-<stron
 g>Adventshock&nbsp;</strong></span></span></p><p style="text-align: center;
 "><strong><span style="font-size: 18pt;"><span style="color: #ff9900;">mit 
 schönen Bildern zum Jahresrückblick</span> <span style="color: #ff6600;">so
 wie</span> <span style="color: #800000;">spektakulären Island-Bildern</span
 ></span></strong></p><p>&nbsp;</p><p><span style="font-size: 14pt;">Los geh
 ts mit unserem Adventshock am <strong>6. Dezember ab 15 Uhr</strong> an bzw
 . in der warmen <strong>Forsthütte am Opfi</strong>. Ihr dürft gerne Kuchen
 , Kekse, Obstsalat oder andere Leckereien mitbringen - und x Kilo gute Laun
 e. So wirds garantiert fff-like -&nbsp; frisch, fröhlich, fotoreich 😊.</spa
 n></p><p><span style="font-size: 14pt;">Vor allem fotoreich, da – sobald es
  etwas dunkler wird – uns unsere Jugendwarte Jessi &amp; Philipp mit</span>
 </p><p style="text-align: center;"><span style="font-size: 18pt; font-famil
 y: comic sans ms, sans-serif;"><span style="background-color: #ffff00;">spe
 ktakulären Bildern mitnehmen auf Ihr diesjährigers Wildwasser-Abenteuer auf
  Island</span>&nbsp;</span></p><p><span style="font-size: 14pt;">Das verspr
 icht: Spannung pur!</span></p><p><span style="font-size: 14pt;">Für den abe
 ndlichen Heißhunger ist auch gesorgt, denn wir runden&nbsp;den Abend mit Ka
 rtoffelsalat &amp; Würstle ab.&nbsp;</span></p><p><span style="font-size: 1
 4pt;">Also gleich einplanen im Kalender - <strong><span style="color: #8000
 80;">am 6.12. zum FFF-Adventshock</span></strong>, dieses Mal so ganz ohne 
 Nikolausi, der hat nämlich Ferien, dafür aber mit viel Paddler-Spaß beim Zu
 sammensitzen und gemeinsam echt tolle Bilder gucken.</span></p><p><span sty
 le="font-size: 14pt;">Egal, ob&nbsp;Sonne, Regen, Schnee ...</span></p><p s
 tyle="padding-left: 60px;"><span style="font-size: 14pt;"><span style="font
 -family: comic sans ms, sans-serif; color: #3366ff;">auf, auf, komm auch Du
 ,</span> damit wir viele werden ... </span></p><p style="padding-left: 90px
 ;"><span style="font-size: 14pt;">denn nur in der Gruppe wirds luschtig – d
 a lebt die Paddlers-Freundschaft 🤸♀️! </span></p><p style="padding-left: 90
 px;">&nbsp;</p><p>&nbsp;</p><p>&nbsp;</p>
DTSTAMP:20260422T032845
DTSTART;TZID=Europe/Berlin:20251206T150000
SEQUENCE:0
TRANSP:OPAQUE
END:VEVENT
END:VCALENDAR