BEGIN:VCALENDAR
VERSION:2.0
PRODID:-//jEvents 2.0 for Joomla//EN
CALSCALE:GREGORIAN
METHOD:PUBLISH
BEGIN:VTIMEZONE
TZID:Europe/Berlin
BEGIN:STANDARD
DTSTART:20251026T020000
RDATE:20260329T030000
TZOFFSETFROM:+0200
TZOFFSETTO:+0100
TZNAME:Europe/Berlin CET
END:STANDARD
BEGIN:STANDARD
DTSTART:20261025T020000
RDATE:20270328T030000
TZOFFSETFROM:+0200
TZOFFSETTO:+0100
TZNAME:Europe/Berlin CET
END:STANDARD
BEGIN:STANDARD
DTSTART:20271031T020000
RDATE:20280326T030000
TZOFFSETFROM:+0200
TZOFFSETTO:+0100
TZNAME:Europe/Berlin CET
END:STANDARD
BEGIN:STANDARD
DTSTART:20281029T020000
RDATE:20290325T030000
TZOFFSETFROM:+0200
TZOFFSETTO:+0100
TZNAME:Europe/Berlin CET
END:STANDARD
BEGIN:STANDARD
DTSTART:20291028T020000
RDATE:20300331T030000
TZOFFSETFROM:+0200
TZOFFSETTO:+0100
TZNAME:Europe/Berlin CET
END:STANDARD
BEGIN:STANDARD
DTSTART:20301027T020000
RDATE:20310330T030000
TZOFFSETFROM:+0200
TZOFFSETTO:+0100
TZNAME:Europe/Berlin CET
END:STANDARD
BEGIN:STANDARD
DTSTART:20311026T020000
RDATE:20320328T030000
TZOFFSETFROM:+0200
TZOFFSETTO:+0100
TZNAME:Europe/Berlin CET
END:STANDARD
BEGIN:DAYLIGHT
DTSTART:20250924T000000
RDATE:20251026T020000
TZOFFSETFROM:+0100
TZOFFSETTO:+0200
TZNAME:Europe/Berlin CEST
END:DAYLIGHT
BEGIN:DAYLIGHT
DTSTART:20260329T030000
RDATE:20261025T020000
TZOFFSETFROM:+0100
TZOFFSETTO:+0200
TZNAME:Europe/Berlin CEST
END:DAYLIGHT
BEGIN:DAYLIGHT
DTSTART:20270328T030000
RDATE:20271031T020000
TZOFFSETFROM:+0100
TZOFFSETTO:+0200
TZNAME:Europe/Berlin CEST
END:DAYLIGHT
BEGIN:DAYLIGHT
DTSTART:20280326T030000
RDATE:20281029T020000
TZOFFSETFROM:+0100
TZOFFSETTO:+0200
TZNAME:Europe/Berlin CEST
END:DAYLIGHT
BEGIN:DAYLIGHT
DTSTART:20290325T030000
RDATE:20291028T020000
TZOFFSETFROM:+0100
TZOFFSETTO:+0200
TZNAME:Europe/Berlin CEST
END:DAYLIGHT
BEGIN:DAYLIGHT
DTSTART:20300331T030000
RDATE:20301027T020000
TZOFFSETFROM:+0100
TZOFFSETTO:+0200
TZNAME:Europe/Berlin CEST
END:DAYLIGHT
BEGIN:DAYLIGHT
DTSTART:20310330T030000
RDATE:20311026T020000
TZOFFSETFROM:+0100
TZOFFSETTO:+0200
TZNAME:Europe/Berlin CEST
END:DAYLIGHT
END:VTIMEZONE
BEGIN:VEVENT
UID:37a3ff05c0a671780e247d57fc678cd4
CATEGORIES:Mehrtages-Touren, Wanderpaddeln
CREATED:20260118T011804
SUMMARY:Pfälzisch-Alemannische Gemeinschaftsfahrt
DESCRIPTION:Anmeldung bis: 13.09.2026 \nFahrtenleiter: Wanderwart Diese E-Mail-Adresse 
 ist vor Spambots geschützt! Zur Anzeige muss JavaScript eingeschaltet sein!
 
				document.getElementById('cloak905f66c96b422374df6d9e7dc392a5f0').inner
 HTML = '';
				var prefix = '&#109;a' + 'i&#108;' + '&#116;o';
				var path
  = 'hr' + 'ef' + '=';
				var addy905f66c96b422374df6d9e7dc392a5f0 = 'w&#97
 ;nd&#101;rw&#97;rt' + '&#64;';
				addy905f66c96b422374df6d9e7dc392a5f0 = a
 ddy905f66c96b422374df6d9e7dc392a5f0 + 'fff-fr&#101;&#105;b&#117;rg' + '&#46
 ;' + 'd&#101;?s&#117;bj&#101;ct=FFF:%20Pf&auml;lz&#105;sch-&#97;l&#101;m&#9
 7;nn&#105;sch&#101;%20G&#101;m&#101;&#105;nsch&#97;ftsf&#97;hrt';
				var a
 ddy_text905f66c96b422374df6d9e7dc392a5f0 = 'R&#111;l&#97;nd B&#97;nh&#111;l
 z&#101;r';document.getElementById('cloak905f66c96b422374df6d9e7dc392a5f0').
 innerHTML += '<a title="E-Mail an Fahrtenleiter Roland" ' + path + '\'' + p
 refix + ':' + addy905f66c96b422374df6d9e7dc392a5f0 + '\' target="_blank">'+
 addy_text905f66c96b422374df6d9e7dc392a5f0+'';
		\nAuf, komm mit nach Rhinau
  zur\nGemeinschaftsfahrt mit unseren pfälzischen Freunden\nLiebe FFF-ler,\n
 zu gemütlichen Touren rund um Rhinau möchte ich alle, die es nicht so wild 
 mögen, recht herzlich einladen.\nBitte mit PKW’s anreisen, sodass wir mögli
 chst flexibel mit dem Umsetzen der Boote sind und nicht zu viel Personen in
  ein Auto quetschen müssen! (normalerweise halten wir es damit ja immer umg
 ekehrt.)\nStandlager &amp; Treffpunkt:  \n\n - Camping „Ferme des Tuileries
 “ in Rhinau\n F-67860 Rhinau\n +33 3 88 74 60 45. Fax +33 3 88 74 85 35\n E
 -Mail: Diese E-Mail-Adresse ist vor Spambots geschützt! Zur Anzeige muss Ja
 vaScript eingeschaltet sein!
				document.getElementById('cloak7fb464797d7b
 3a760c6db984beb377d6').innerHTML = '';
				var prefix = '&#109;a' + 'i&#108
 ;' + '&#116;o';
				var path = 'hr' + 'ef' + '=';
				var addy7fb464797d7b3
 a760c6db984beb377d6 = 'c&#97;mp&#105;ng.f&#101;rm&#101;t&#117;&#105;l&#101;
 r&#105;&#101;s' + '&#64;';
				addy7fb464797d7b3a760c6db984beb377d6 = addy7
 fb464797d7b3a760c6db984beb377d6 + 'n&#101;&#117;f' + '&#46;' + 'fr';
				va
 r addy_text7fb464797d7b3a760c6db984beb377d6 = 'c&#97;mp&#105;ng.f&#101;rm&#
 101;t&#117;&#105;l&#101;r&#105;&#101;s' + '&#64;' + 'n&#101;&#117;f' + '&#4
 6;' + 'fr';document.getElementById('cloak7fb464797d7b3a760c6db984beb377d6')
 .innerHTML += '<a title="E-Mail an den Campingplatz" ' + path + '\'' + pref
 ix + ':' + addy7fb464797d7b3a760c6db984beb377d6 + '\' target="_blank">'+add
 y_text7fb464797d7b3a760c6db984beb377d6+'';
		\n Internet:  (http://www.ferm
 edestuileries.com)http://www.fermedestuileries.com (http://www.fermedestuil
 eries.com)Anmeldung:\nBitte meldet Euch unbedingt per E-Mail bis 13.09.2026
  bei mir an, damit wir auch genügend Platz auf dem Campingplatz bekommen kö
 nnen. Außerdem kann ich nur so eventuelle Änderungen und Informationen mitt
 eilen.\nDiese Ausfahrt wird eine Gemeinschaftsfahrt mit der \n „Kanusportge
 meinschaft Germersheim e.V.“: https://ksg-ger.de/ (https://ksg-ger.de/)\nWa
 nn:   \nAnreise Freitag, den 25. September 2026 bis Sonntag 27. September 2
 026 \n (gepaddelt wird erst ab Samstag)\nAnreise:\nÜber Rheinfähre Kappel o
 der Sasbach/Rheinbrücke\nAusrüstung:\nSchwimmweste, Windjacke oder Paddelja
 cke, Neoprenanzug je nach Wetter (Französische Umweltplakette für Straßburg
  wird benötigt, falls wir den Krummen Rhein paddeln werden )\nAuf schöne, w
 arme und sonnige Tage mit Euch freut sich schon jetzt Euer Wanderwart.\nRol
 and Banholzer\nAnmeldungen und Fragen?\nE-Mail an Roland: Diese E-Mail-Adre
 sse ist vor Spambots geschützt! Zur Anzeige muss JavaScript eingeschaltet s
 ein!
				document.getElementById('cloakb86662fa69b80e315f6a3b85cf648b3c').i
 nnerHTML = '';
				var prefix = '&#109;a' + 'i&#108;' + '&#116;o';
				var 
 path = 'hr' + 'ef' + '=';
				var addyb86662fa69b80e315f6a3b85cf648b3c = 'w
 &#97;nd&#101;rw&#97;rt.r&#111;l&#97;nd' + '&#64;';
				addyb86662fa69b80e31
 5f6a3b85cf648b3c = addyb86662fa69b80e315f6a3b85cf648b3c + 'fff-fr&#101;&#10
 5;b&#117;rg' + '&#46;' + 'd&#101;?s&#117;bj&#101;ct=FFF:%20Pf&auml;lz&#105;
 sch-&#97;l&#101;m&#97;nn&#105;sch&#101;%20G&#101;m&#101;&#105;nsch&#97;ftsf
 &#97;hrt';
				var addy_textb86662fa69b80e315f6a3b85cf648b3c = 'w&#97;nd&#1
 01;rw&#97;rt.r&#111;l&#97;nd' + '&#64;' + 'fff-fr&#101;&#105;b&#117;rg' + '
 &#46;' + 'd&#101;';document.getElementById('cloakb86662fa69b80e315f6a3b85cf
 648b3c').innerHTML += '<a title="E-Mail an Fahrtenleiter Roland" ' + path +
  '\'' + prefix + ':' + addyb86662fa69b80e315f6a3b85cf648b3c + '\' target="_
 blank">'+addy_textb86662fa69b80e315f6a3b85cf648b3c+'';
		\n
X-ALT-DESC;FMTTYPE=text/html:<p><strong>Anmeldung bis:</strong> 13.09.2026&nbsp;</p><p style="text-align
 : right;"><strong><span style="color: #3366ff;">Fahrtenleiter:</span></stro
 ng> Wanderwart <span id="cloak905f66c96b422374df6d9e7dc392a5f0">Diese E-Mai
 l-Adresse ist vor Spambots geschützt! Zur Anzeige muss JavaScript eingescha
 ltet sein!</span><script type='text/javascript'>
				document.getElementByI
 d('cloak905f66c96b422374df6d9e7dc392a5f0').innerHTML = '';
				var prefix =
  '&#109;a' + 'i&#108;' + '&#116;o';
				var path = 'hr' + 'ef' + '=';
				v
 ar addy905f66c96b422374df6d9e7dc392a5f0 = 'w&#97;nd&#101;rw&#97;rt' + '&#64
 ;';
				addy905f66c96b422374df6d9e7dc392a5f0 = addy905f66c96b422374df6d9e7d
 c392a5f0 + 'fff-fr&#101;&#105;b&#117;rg' + '&#46;' + 'd&#101;?s&#117;bj&#10
 1;ct=FFF:%20Pf&auml;lz&#105;sch-&#97;l&#101;m&#97;nn&#105;sch&#101;%20G&#10
 1;m&#101;&#105;nsch&#97;ftsf&#97;hrt';
				var addy_text905f66c96b422374df6
 d9e7dc392a5f0 = 'R&#111;l&#97;nd B&#97;nh&#111;lz&#101;r';document.getEleme
 ntById('cloak905f66c96b422374df6d9e7dc392a5f0').innerHTML += '<a title="E-M
 ail an Fahrtenleiter Roland" ' + path + '\'' + prefix + ':' + addy905f66c96
 b422374df6d9e7dc392a5f0 + '\' target="_blank">'+addy_text905f66c96b422374df
 6d9e7dc392a5f0+'<\/a>';
		</script></p><p>Auf, komm mit nach Rhinau zur</p>
 <p style="text-align: center;"><span style="font-family: trebuchet ms, gene
 va; font-size: 18pt;"><span style="color: #339966;">Gemeinschaftsfahrt</spa
 n> <span style="color: #ff9900;">mit unseren</span> <span style="color: #99
 3366;">pfälzischen Freunden</span></span></p><p>Liebe FFF-ler,</p><p>zu gem
 ütlichen Touren rund um Rhinau möchte ich alle, die es nicht so wild mögen,
  recht herzlich einladen.</p><p>Bitte mit PKW’s anreisen, sodass wir möglic
 hst flexibel mit dem Umsetzen der Boote sind und nicht zu viel Personen in 
 ein Auto quetschen müssen! (normalerweise halten wir es damit ja immer umge
 kehrt.)</p><p><strong>Standlager &amp; Treffpunkt</strong>:&nbsp;&nbsp;</p>
 <ul><li>Camping „Ferme des Tuileries“ in Rhinau<br /> F-67860 Rhinau<br /> 
 +33 3&nbsp;88&nbsp;74&nbsp;60&nbsp;45. Fax +33 3&nbsp;88&nbsp;74&nbsp;85&nb
 sp;35<br /> E-Mail: <span id="cloak7fb464797d7b3a760c6db984beb377d6">Diese 
 E-Mail-Adresse ist vor Spambots geschützt! Zur Anzeige muss JavaScript eing
 eschaltet sein!</span><script type='text/javascript'>
				document.getEleme
 ntById('cloak7fb464797d7b3a760c6db984beb377d6').innerHTML = '';
				var pre
 fix = '&#109;a' + 'i&#108;' + '&#116;o';
				var path = 'hr' + 'ef' + '=';

 				var addy7fb464797d7b3a760c6db984beb377d6 = 'c&#97;mp&#105;ng.f&#101;rm&
 #101;t&#117;&#105;l&#101;r&#105;&#101;s' + '&#64;';
				addy7fb464797d7b3a7
 60c6db984beb377d6 = addy7fb464797d7b3a760c6db984beb377d6 + 'n&#101;&#117;f'
  + '&#46;' + 'fr';
				var addy_text7fb464797d7b3a760c6db984beb377d6 = 'c&#
 97;mp&#105;ng.f&#101;rm&#101;t&#117;&#105;l&#101;r&#105;&#101;s' + '&#64;' 
 + 'n&#101;&#117;f' + '&#46;' + 'fr';document.getElementById('cloak7fb464797
 d7b3a760c6db984beb377d6').innerHTML += '<a title="E-Mail an den Campingplat
 z" ' + path + '\'' + prefix + ':' + addy7fb464797d7b3a760c6db984beb377d6 + 
 '\' target="_blank">'+addy_text7fb464797d7b3a760c6db984beb377d6+'<\/a>';
		
 </script><br /> Internet: <a href="http://www.fermedestuileries.com"></a><a
  title="Webseite des Campingplatzes" href="http://www.fermedestuileries.com
 " target="_blank" rel="noopener">http://www.fermedestuileries.com</a></li><
 /ul><p><strong>Anmeldung:</strong></p><p><strong>Bitte meldet Euch unbeding
 t per E-Mail bis 13.09.2026 bei mir an</strong>, damit wir auch genügend Pl
 atz auf dem Campingplatz bekommen können. Außerdem kann ich nur so eventuel
 le Änderungen und Informationen mitteilen.</p><p>Diese Ausfahrt wird eine G
 emeinschaftsfahrt mit der <br /> <strong>„Kanusportgemeinschaft Germersheim
  e.V.“:&nbsp;</strong><a title="Website der Kanusportgemeinschaft Germershe
 im" href="https://ksg-ger.de/" target="_blank" rel="noopener">https://ksg-g
 er.de/</a></p><p><strong>Wann</strong>:&nbsp;&nbsp;&nbsp;</p><p>Anreise Fre
 itag, den <strong>25. September 2026&nbsp;</strong>bis Sonntag<strong> 27. 
 September 2026&nbsp;<br /> </strong>(gepaddelt wird erst ab Samstag)</p><p>
 <strong>Anreise</strong>:</p><p>Über Rheinfähre Kappel oder Sasbach/Rheinbr
 ücke</p><p><strong>Ausrüstung:</strong></p><p>Schwimmweste, Windjacke oder 
 Paddeljacke, Neoprenanzug je nach Wetter (Französische Umweltplakette für S
 traßburg wird benötigt, falls wir den Krummen Rhein paddeln werden )</p><p>
 Auf schöne, warme und sonnige Tage mit Euch freut sich schon jetzt Euer Wan
 derwart.</p><p>Roland Banholzer</p><p><strong>Anmeldungen und Fragen?</stro
 ng></p><p>E-Mail an Roland: <span id="cloakb86662fa69b80e315f6a3b85cf648b3c
 ">Diese E-Mail-Adresse ist vor Spambots geschützt! Zur Anzeige muss JavaScr
 ipt eingeschaltet sein!</span><script type='text/javascript'>
				document.
 getElementById('cloakb86662fa69b80e315f6a3b85cf648b3c').innerHTML = '';
			
 	var prefix = '&#109;a' + 'i&#108;' + '&#116;o';
				var path = 'hr' + 'ef'
  + '=';
				var addyb86662fa69b80e315f6a3b85cf648b3c = 'w&#97;nd&#101;rw&#9
 7;rt.r&#111;l&#97;nd' + '&#64;';
				addyb86662fa69b80e315f6a3b85cf648b3c =
  addyb86662fa69b80e315f6a3b85cf648b3c + 'fff-fr&#101;&#105;b&#117;rg' + '&#
 46;' + 'd&#101;?s&#117;bj&#101;ct=FFF:%20Pf&auml;lz&#105;sch-&#97;l&#101;m&
 #97;nn&#105;sch&#101;%20G&#101;m&#101;&#105;nsch&#97;ftsf&#97;hrt';
				var
  addy_textb86662fa69b80e315f6a3b85cf648b3c = 'w&#97;nd&#101;rw&#97;rt.r&#11
 1;l&#97;nd' + '&#64;' + 'fff-fr&#101;&#105;b&#117;rg' + '&#46;' + 'd&#101;'
 ;document.getElementById('cloakb86662fa69b80e315f6a3b85cf648b3c').innerHTML
  += '<a title="E-Mail an Fahrtenleiter Roland" ' + path + '\'' + prefix + '
 :' + addyb86662fa69b80e315f6a3b85cf648b3c + '\' target="_blank">'+addy_text
 b86662fa69b80e315f6a3b85cf648b3c+'<\/a>';
		</script></p>
DTSTAMP:20260423T020920
DTSTART;TZID=Europe/Berlin;VALUE=DATE:20260925
DTEND;TZID=Europe/Berlin;VALUE=DATE:20260928
SEQUENCE:0
TRANSP:OPAQUE
END:VEVENT
END:VCALENDAR