BEGIN:VCALENDAR
VERSION:2.0
PRODID:-//jEvents 2.0 for Joomla//EN
CALSCALE:GREGORIAN
METHOD:PUBLISH
BEGIN:VTIMEZONE
TZID:Europe/Berlin
BEGIN:STANDARD
DTSTART:20251204T150000
RDATE:20260329T030000
TZOFFSETFROM:+0200
TZOFFSETTO:+0100
TZNAME:Europe/Berlin CET
END:STANDARD
BEGIN:STANDARD
DTSTART:20261025T020000
RDATE:20270328T030000
TZOFFSETFROM:+0200
TZOFFSETTO:+0100
TZNAME:Europe/Berlin CET
END:STANDARD
BEGIN:STANDARD
DTSTART:20271031T020000
RDATE:20280326T030000
TZOFFSETFROM:+0200
TZOFFSETTO:+0100
TZNAME:Europe/Berlin CET
END:STANDARD
BEGIN:STANDARD
DTSTART:20281029T020000
RDATE:20290325T030000
TZOFFSETFROM:+0200
TZOFFSETTO:+0100
TZNAME:Europe/Berlin CET
END:STANDARD
BEGIN:STANDARD
DTSTART:20291028T020000
RDATE:20300331T030000
TZOFFSETFROM:+0200
TZOFFSETTO:+0100
TZNAME:Europe/Berlin CET
END:STANDARD
BEGIN:STANDARD
DTSTART:20301027T020000
RDATE:20310330T030000
TZOFFSETFROM:+0200
TZOFFSETTO:+0100
TZNAME:Europe/Berlin CET
END:STANDARD
BEGIN:STANDARD
DTSTART:20311026T020000
RDATE:20320328T030000
TZOFFSETFROM:+0200
TZOFFSETTO:+0100
TZNAME:Europe/Berlin CET
END:STANDARD
BEGIN:DAYLIGHT
DTSTART:20260329T030000
RDATE:20261025T020000
TZOFFSETFROM:+0100
TZOFFSETTO:+0200
TZNAME:Europe/Berlin CEST
END:DAYLIGHT
BEGIN:DAYLIGHT
DTSTART:20270328T030000
RDATE:20271031T020000
TZOFFSETFROM:+0100
TZOFFSETTO:+0200
TZNAME:Europe/Berlin CEST
END:DAYLIGHT
BEGIN:DAYLIGHT
DTSTART:20280326T030000
RDATE:20281029T020000
TZOFFSETFROM:+0100
TZOFFSETTO:+0200
TZNAME:Europe/Berlin CEST
END:DAYLIGHT
BEGIN:DAYLIGHT
DTSTART:20290325T030000
RDATE:20291028T020000
TZOFFSETFROM:+0100
TZOFFSETTO:+0200
TZNAME:Europe/Berlin CEST
END:DAYLIGHT
BEGIN:DAYLIGHT
DTSTART:20300331T030000
RDATE:20301027T020000
TZOFFSETFROM:+0100
TZOFFSETTO:+0200
TZNAME:Europe/Berlin CEST
END:DAYLIGHT
BEGIN:DAYLIGHT
DTSTART:20310330T030000
RDATE:20311026T020000
TZOFFSETFROM:+0100
TZOFFSETTO:+0200
TZNAME:Europe/Berlin CEST
END:DAYLIGHT
END:VTIMEZONE
BEGIN:VEVENT
UID:0a70e1e5953cdc6b46e41ae06f294ace
CATEGORIES:Regio-Touren, Wanderpaddeln, Wildwasser-Touren, Seekajak-Touren, Sonstiges, Jugend-Touren
CREATED:20260118T013343
SUMMARY:Gemütlicher FFF-Adventshock mit Film-Highlight
DESCRIPTION:Organisator: Diese E-Mail-Adresse ist vor Spambots geschützt! Zur Anzeige m
 uss JavaScript eingeschaltet sein!
				document.getElementById('cloak419c8f
 7780a69770582aff1aa7886942').innerHTML = '';
				var prefix = '&#109;a' + '
 i&#108;' + '&#116;o';
				var path = 'hr' + 'ef' + '=';
				var addy419c8f7
 780a69770582aff1aa7886942 = 'gf-v&#111;rst&#97;nd' + '&#64;';
				addy419c8
 f7780a69770582aff1aa7886942 = addy419c8f7780a69770582aff1aa7886942 + 'fff-f
 r&#101;&#105;b&#117;rg' + '&#46;' + 'd&#101;?s&#117;bj&#101;ct=FFF:%20Adv&#
 101;ntsh&#111;ck';
				var addy_text419c8f7780a69770582aff1aa7886942 = 'V&#
 111;rst&#97;nd';document.getElementById('cloak419c8f7780a69770582aff1aa7886
 942').innerHTML += '<a title="E-Mail an Adventshock-Organisatoren" ' + path
  + '\'' + prefix + ':' + addy419c8f7780a69770582aff1aa7886942 + '\' target=
 "_blank">'+addy_text419c8f7780a69770582aff1aa7886942+'';
		\nGemütlicher FF
 F-Adventshock \nmit schönen Bildern zum Jahresrückblick sowie spektakulärer
  Film-Überraschung\n \nLos gehts mit unserem Adventshock am 5. Dezember ab 
 15 Uhr an bzw. in der warmen Forsthütte am Opfi. Ihr dürft gerne Kuchen, Ke
 kse, Obstsalat oder andere Leckereien mitbringen - und x Kilo gute Laune. S
 o wirds garantiert fff-like -  frisch, fröhlich, fotoreich 😊.\nVor allem fo
 toreich, da – sobald es etwas dunkler wird – werden wir mit einer \nFilm-Üb
 erraschung loslegen \nDas verspricht: Spannung pur!\nFür den abendlichen He
 ißhunger ist auch gesorgt, denn wir runden den Abend mit Kartoffelsalat &am
 p; Würstle ab. \nAlso gleich einplanen im Kalender - am 5.12. zum FFF-Adven
 tshock, dieses Mal so ganz ohne Nikolausi, der hat nämlich Ferien, dafür ab
 er mit viel Paddler-Spaß beim Zusammensitzen und gemeinsam echt tolle Bilde
 r gucken.\nEgal, ob Sonne, Regen, Schnee ...\nauf, auf, komm auch Du, damit
  wir viele werden ... \ndenn nur in der Gruppe wirds luschtig – da lebt die
  Paddlers-Freundschaft 🤸♀️! \n \n \n \n
X-ALT-DESC;FMTTYPE=text/html:<p style="text-align: right;"><strong><span style="color: #3366ff;">Organis
 ator:</span></strong> <span id="cloak419c8f7780a69770582aff1aa7886942">Dies
 e E-Mail-Adresse ist vor Spambots geschützt! Zur Anzeige muss JavaScript ei
 ngeschaltet sein!</span><script type='text/javascript'>
				document.getEle
 mentById('cloak419c8f7780a69770582aff1aa7886942').innerHTML = '';
				var p
 refix = '&#109;a' + 'i&#108;' + '&#116;o';
				var path = 'hr' + 'ef' + '='
 ;
				var addy419c8f7780a69770582aff1aa7886942 = 'gf-v&#111;rst&#97;nd' + '
 &#64;';
				addy419c8f7780a69770582aff1aa7886942 = addy419c8f7780a69770582a
 ff1aa7886942 + 'fff-fr&#101;&#105;b&#117;rg' + '&#46;' + 'd&#101;?s&#117;bj
 &#101;ct=FFF:%20Adv&#101;ntsh&#111;ck';
				var addy_text419c8f7780a6977058
 2aff1aa7886942 = 'V&#111;rst&#97;nd';document.getElementById('cloak419c8f77
 80a69770582aff1aa7886942').innerHTML += '<a title="E-Mail an Adventshock-Or
 ganisatoren" ' + path + '\'' + prefix + ':' + addy419c8f7780a69770582aff1aa
 7886942 + '\' target="_blank">'+addy_text419c8f7780a69770582aff1aa7886942+'
 <\/a>';
		</script></p><p style="text-align: center;"><span style="font-siz
 e: 24pt;"><span style="color: #008000;"><strong>Gemütlicher</strong> </span
 ><span style="color: #008000; font-size: 36pt;"><strong>FFF</strong>-<stron
 g>Adventshock&nbsp;</strong></span></span></p><p style="text-align: center;
 "><strong><span style="font-size: 18pt;"><span style="color: #ff9900;">mit 
 schönen Bildern zum Jahresrückblick</span> <span style="color: #ff6600;">so
 wie</span> <span style="color: #800000;">spektakulärer Film-Überraschung</s
 pan></span></strong></p><p>&nbsp;</p><p><span style="font-size: 14pt;">Los 
 gehts mit unserem Adventshock am <strong>5. Dezember ab 15 Uhr</strong> an 
 bzw. in der warmen <strong>Forsthütte am Opfi</strong>. Ihr dürft gerne Kuc
 hen, Kekse, Obstsalat oder andere Leckereien mitbringen - und x Kilo gute L
 aune. So wirds garantiert fff-like -&nbsp; frisch, fröhlich, fotoreich 😊.</
 span></p><p><span style="font-size: 14pt;">Vor allem fotoreich, da – sobald
  es etwas dunkler wird – werden wir mit einer&nbsp;</span></p><p style="tex
 t-align: center;"><span style="font-size: 18pt; font-family: comic sans ms,
  sans-serif;"><span style="background-color: #ffff00;">Film-Überraschung lo
 slegen</span>&nbsp;</span></p><p><span style="font-size: 14pt;">Das verspri
 cht: Spannung pur!</span></p><p><span style="font-size: 14pt;">Für den aben
 dlichen Heißhunger ist auch gesorgt, denn wir runden&nbsp;den Abend mit Kar
 toffelsalat &amp; Würstle ab.&nbsp;</span></p><p><span style="font-size: 14
 pt;">Also gleich einplanen im Kalender - <strong><span style="color: #80008
 0;">am 5.12. zum FFF-Adventshock</span></strong>, dieses Mal so ganz ohne N
 ikolausi, der hat nämlich Ferien, dafür aber mit viel Paddler-Spaß beim Zus
 ammensitzen und gemeinsam echt tolle Bilder gucken.</span></p><p><span styl
 e="font-size: 14pt;">Egal, ob&nbsp;Sonne, Regen, Schnee ...</span></p><p st
 yle="padding-left: 60px;"><span style="font-size: 14pt;"><span style="font-
 family: comic sans ms, sans-serif; color: #3366ff;">auf, auf, komm auch Du,
 </span> damit wir viele werden ... </span></p><p style="padding-left: 90px;
 "><span style="font-size: 14pt;">denn nur in der Gruppe wirds luschtig – da
  lebt die Paddlers-Freundschaft 🤸♀️! </span></p><p style="padding-left: 90p
 x;">&nbsp;</p><p>&nbsp;</p><p>&nbsp;</p>
DTSTAMP:20260423T081951
DTSTART;TZID=Europe/Berlin:20261205T150000
SEQUENCE:0
TRANSP:OPAQUE
END:VEVENT
END:VCALENDAR