BEGIN:VCALENDAR
VERSION:2.0
PRODID:-//jEvents 2.0 for Joomla//EN
CALSCALE:GREGORIAN
METHOD:PUBLISH
BEGIN:VTIMEZONE
TZID:Europe/Berlin
BEGIN:STANDARD
DTSTART:20251106T100000
RDATE:20260329T030000
TZOFFSETFROM:+0200
TZOFFSETTO:+0100
TZNAME:Europe/Berlin CET
END:STANDARD
BEGIN:STANDARD
DTSTART:20261025T020000
RDATE:20270328T030000
TZOFFSETFROM:+0200
TZOFFSETTO:+0100
TZNAME:Europe/Berlin CET
END:STANDARD
BEGIN:STANDARD
DTSTART:20271031T020000
RDATE:20280326T030000
TZOFFSETFROM:+0200
TZOFFSETTO:+0100
TZNAME:Europe/Berlin CET
END:STANDARD
BEGIN:STANDARD
DTSTART:20281029T020000
RDATE:20290325T030000
TZOFFSETFROM:+0200
TZOFFSETTO:+0100
TZNAME:Europe/Berlin CET
END:STANDARD
BEGIN:STANDARD
DTSTART:20291028T020000
RDATE:20300331T030000
TZOFFSETFROM:+0200
TZOFFSETTO:+0100
TZNAME:Europe/Berlin CET
END:STANDARD
BEGIN:STANDARD
DTSTART:20301027T020000
RDATE:20310330T030000
TZOFFSETFROM:+0200
TZOFFSETTO:+0100
TZNAME:Europe/Berlin CET
END:STANDARD
BEGIN:STANDARD
DTSTART:20311026T020000
RDATE:20320328T030000
TZOFFSETFROM:+0200
TZOFFSETTO:+0100
TZNAME:Europe/Berlin CET
END:STANDARD
BEGIN:DAYLIGHT
DTSTART:20260329T030000
RDATE:20261025T020000
TZOFFSETFROM:+0100
TZOFFSETTO:+0200
TZNAME:Europe/Berlin CEST
END:DAYLIGHT
BEGIN:DAYLIGHT
DTSTART:20270328T030000
RDATE:20271031T020000
TZOFFSETFROM:+0100
TZOFFSETTO:+0200
TZNAME:Europe/Berlin CEST
END:DAYLIGHT
BEGIN:DAYLIGHT
DTSTART:20280326T030000
RDATE:20281029T020000
TZOFFSETFROM:+0100
TZOFFSETTO:+0200
TZNAME:Europe/Berlin CEST
END:DAYLIGHT
BEGIN:DAYLIGHT
DTSTART:20290325T030000
RDATE:20291028T020000
TZOFFSETFROM:+0100
TZOFFSETTO:+0200
TZNAME:Europe/Berlin CEST
END:DAYLIGHT
BEGIN:DAYLIGHT
DTSTART:20300331T030000
RDATE:20301027T020000
TZOFFSETFROM:+0100
TZOFFSETTO:+0200
TZNAME:Europe/Berlin CEST
END:DAYLIGHT
BEGIN:DAYLIGHT
DTSTART:20310330T030000
RDATE:20311026T020000
TZOFFSETFROM:+0100
TZOFFSETTO:+0200
TZNAME:Europe/Berlin CEST
END:DAYLIGHT
END:VTIMEZONE
BEGIN:VEVENT
UID:25c19d31bc8e0c14bc7c7c4d0a7f180a
CATEGORIES:Regio-Touren, Wanderpaddeln, Wildwasser-Touren, Kanupolo, Seekajak-Touren, Sonstiges, Jugend-Touren
CREATED:20260118T013641
SUMMARY:"Klar Schiff" im Bootslager
DESCRIPTION:Organisator: Diese E-Mail-Adresse ist vor Spambots geschützt! Zur Anzeige m
 uss JavaScript eingeschaltet sein!
				document.getElementById('cloakba6bbb
 7674b3edc7346aadcb99003c90').innerHTML = '';
				var prefix = '&#109;a' + '
 i&#108;' + '&#116;o';
				var path = 'hr' + 'ef' + '=';
				var addyba6bbb7
 674b3edc7346aadcb99003c90 = 'v&#111;rst&#97;nd.k&#97;rl-fr&#105;&#101;dr&#1
 05;ch' + '&#64;';
				addyba6bbb7674b3edc7346aadcb99003c90 = addyba6bbb7674
 b3edc7346aadcb99003c90 + 'fff-fr&#101;&#105;b&#117;rg' + '&#46;' + 'd&#101;
 ?s&#117;bj&#101;ct=FFF:%20Kl&#97;r%20Sch&#105;ff%20&#105;m%20B&#111;&#111;t
 sl&#97;g&#101;r';
				var addy_textba6bbb7674b3edc7346aadcb99003c90 = 'K&#9
 7;rl-Fr&#105;&#101;dr&#105;ch St&uuml;lpn&#97;g&#101;l';document.getElement
 ById('cloakba6bbb7674b3edc7346aadcb99003c90').innerHTML += '<a title="E-Mai
 l an Organisator Karl-Friedrich (KF)" ' + path + '\'' + prefix + ':' + addy
 ba6bbb7674b3edc7346aadcb99003c90 + '\' target="_blank">'+addy_textba6bbb767
 4b3edc7346aadcb99003c90+'';
		\nHallo all ihr FFF-Helferlein,\nheute treffe
 n wir uns, um unser Bootslager am Opfi für die etwas ruhigere Paddelzeit he
 rzurichten: Aussortieren, putzen, Platz schaffen, im Winter nicht benötigte
  Dinge eher nach hinten räumen ...\nAufgaben und Material zur Reinigung ste
 llt der Verein zur Verfügung. Wir brauchen nur EUCH zur Mithilfe. Hast auch
  Du Zeit und Lust?\nDann melde Dich bitte bei mir an, so kann ich besser pl
 anen: Diese E-Mail-Adresse ist vor Spambots geschützt! Zur Anzeige muss Jav
 aScript eingeschaltet sein!
				document.getElementById('cloak132d6de3d1f0f
 4291ab9417ee9fbfab5').innerHTML = '';
				var prefix = '&#109;a' + 'i&#108;
 ' + '&#116;o';
				var path = 'hr' + 'ef' + '=';
				var addy132d6de3d1f0f4
 291ab9417ee9fbfab5 = 'v&#111;rst&#97;nd.k&#97;rl-fr&#105;&#101;dr&#105;ch' 
 + '&#64;';
				addy132d6de3d1f0f4291ab9417ee9fbfab5 = addy132d6de3d1f0f4291
 ab9417ee9fbfab5 + 'fff-fr&#101;&#105;b&#117;rg' + '&#46;' + 'd&#101;?s&#117
 ;bj&#101;ct=FFF:%20Kl&#97;r%20Sch&#105;ff%20&#105;m%20B&#111;&#111;tsl&#97;
 g&#101;r';
				var addy_text132d6de3d1f0f4291ab9417ee9fbfab5 = 'v&#111;rst&
 #97;nd.k&#97;rl-fr&#105;&#101;dr&#105;ch' + '&#64;' + 'fff-fr&#101;&#105;b&
 #117;rg' + '&#46;' + 'd&#101;';document.getElementById('cloak132d6de3d1f0f4
 291ab9417ee9fbfab5').innerHTML += '<a title="E-Mail an Karl-Friedrich (KF)"
  ' + path + '\'' + prefix + ':' + addy132d6de3d1f0f4291ab9417ee9fbfab5 + '\
 ' target="_blank">'+addy_text132d6de3d1f0f4291ab9417ee9fbfab5+'';
		\nUhrze
 it: 10 Uhr am Bootslager\nUm Kaffee und Kuchen für danach wird gebeten.\n  
                Euer Karl-Friedrich (KF)\n
X-ALT-DESC;FMTTYPE=text/html:<p style="text-align: right;"><strong><span style="color: #3366ff;">Organis
 ator:</span></strong> <span id="cloakba6bbb7674b3edc7346aadcb99003c90">Dies
 e E-Mail-Adresse ist vor Spambots geschützt! Zur Anzeige muss JavaScript ei
 ngeschaltet sein!</span><script type='text/javascript'>
				document.getEle
 mentById('cloakba6bbb7674b3edc7346aadcb99003c90').innerHTML = '';
				var p
 refix = '&#109;a' + 'i&#108;' + '&#116;o';
				var path = 'hr' + 'ef' + '='
 ;
				var addyba6bbb7674b3edc7346aadcb99003c90 = 'v&#111;rst&#97;nd.k&#97;r
 l-fr&#105;&#101;dr&#105;ch' + '&#64;';
				addyba6bbb7674b3edc7346aadcb9900
 3c90 = addyba6bbb7674b3edc7346aadcb99003c90 + 'fff-fr&#101;&#105;b&#117;rg'
  + '&#46;' + 'd&#101;?s&#117;bj&#101;ct=FFF:%20Kl&#97;r%20Sch&#105;ff%20&#1
 05;m%20B&#111;&#111;tsl&#97;g&#101;r';
				var addy_textba6bbb7674b3edc7346
 aadcb99003c90 = 'K&#97;rl-Fr&#105;&#101;dr&#105;ch St&uuml;lpn&#97;g&#101;l
 ';document.getElementById('cloakba6bbb7674b3edc7346aadcb99003c90').innerHTM
 L += '<a title="E-Mail an Organisator Karl-Friedrich (KF)" ' + path + '\'' 
 + prefix + ':' + addyba6bbb7674b3edc7346aadcb99003c90 + '\' target="_blank"
 >'+addy_textba6bbb7674b3edc7346aadcb99003c90+'<\/a>';
		</script></p><p><sp
 an style="font-family: comic sans ms, sans-serif;">Hallo all ihr FFF-Helfer
 lein,</span></p><p>heute treffen wir uns, um unser Bootslager am Opfi für d
 ie etwas ruhigere Paddelzeit herzurichten: Aussortieren, putzen, Platz scha
 ffen, im Winter nicht benötigte Dinge eher nach hinten räumen ...</p><p>Auf
 gaben und Material zur Reinigung stellt der Verein zur Verfügung. <span sty
 le="background-color: #ffff00;">Wir brauchen nur EUCH zur Mithilfe.</span> 
 Hast auch Du Zeit und Lust?</p><p>Dann melde Dich bitte bei mir an, so kann
  ich besser planen: <span id="cloak132d6de3d1f0f4291ab9417ee9fbfab5">Diese 
 E-Mail-Adresse ist vor Spambots geschützt! Zur Anzeige muss JavaScript eing
 eschaltet sein!</span><script type='text/javascript'>
				document.getEleme
 ntById('cloak132d6de3d1f0f4291ab9417ee9fbfab5').innerHTML = '';
				var pre
 fix = '&#109;a' + 'i&#108;' + '&#116;o';
				var path = 'hr' + 'ef' + '=';

 				var addy132d6de3d1f0f4291ab9417ee9fbfab5 = 'v&#111;rst&#97;nd.k&#97;rl-
 fr&#105;&#101;dr&#105;ch' + '&#64;';
				addy132d6de3d1f0f4291ab9417ee9fbfa
 b5 = addy132d6de3d1f0f4291ab9417ee9fbfab5 + 'fff-fr&#101;&#105;b&#117;rg' +
  '&#46;' + 'd&#101;?s&#117;bj&#101;ct=FFF:%20Kl&#97;r%20Sch&#105;ff%20&#105
 ;m%20B&#111;&#111;tsl&#97;g&#101;r';
				var addy_text132d6de3d1f0f4291ab94
 17ee9fbfab5 = 'v&#111;rst&#97;nd.k&#97;rl-fr&#105;&#101;dr&#105;ch' + '&#64
 ;' + 'fff-fr&#101;&#105;b&#117;rg' + '&#46;' + 'd&#101;';document.getElemen
 tById('cloak132d6de3d1f0f4291ab9417ee9fbfab5').innerHTML += '<a title="E-Ma
 il an Karl-Friedrich (KF)" ' + path + '\'' + prefix + ':' + addy132d6de3d1f
 0f4291ab9417ee9fbfab5 + '\' target="_blank">'+addy_text132d6de3d1f0f4291ab9
 417ee9fbfab5+'<\/a>';
		</script></p><p><b>Uhrzeit:</b> 10 Uhr am Bootslage
 r</p><p>Um Kaffee und Kuchen für danach wird gebeten.</p><p>&nbsp; &nbsp; &
 nbsp; &nbsp; &nbsp; &nbsp; &nbsp; &nbsp; &nbsp;Euer <span style="font-famil
 y: comic sans ms, sans-serif;">Karl-Friedrich (KF)</span></p>
DTSTAMP:20260423T112754
DTSTART;TZID=Europe/Berlin:20261107T100000
SEQUENCE:0
TRANSP:OPAQUE
END:VEVENT
END:VCALENDAR