BEGIN:VCALENDAR
VERSION:2.0
PRODID:-//jEvents 2.0 for Joomla//EN
CALSCALE:GREGORIAN
METHOD:PUBLISH
BEGIN:VTIMEZONE
TZID:Europe/Berlin
BEGIN:STANDARD
DTSTART:20251026T020000
RDATE:20260329T030000
TZOFFSETFROM:+0200
TZOFFSETTO:+0100
TZNAME:Europe/Berlin CET
END:STANDARD
BEGIN:STANDARD
DTSTART:20261025T020000
RDATE:20270328T030000
TZOFFSETFROM:+0200
TZOFFSETTO:+0100
TZNAME:Europe/Berlin CET
END:STANDARD
BEGIN:STANDARD
DTSTART:20271031T020000
RDATE:20280326T030000
TZOFFSETFROM:+0200
TZOFFSETTO:+0100
TZNAME:Europe/Berlin CET
END:STANDARD
BEGIN:STANDARD
DTSTART:20281029T020000
RDATE:20290325T030000
TZOFFSETFROM:+0200
TZOFFSETTO:+0100
TZNAME:Europe/Berlin CET
END:STANDARD
BEGIN:STANDARD
DTSTART:20291028T020000
RDATE:20300331T030000
TZOFFSETFROM:+0200
TZOFFSETTO:+0100
TZNAME:Europe/Berlin CET
END:STANDARD
BEGIN:STANDARD
DTSTART:20301027T020000
RDATE:20310330T030000
TZOFFSETFROM:+0200
TZOFFSETTO:+0100
TZNAME:Europe/Berlin CET
END:STANDARD
BEGIN:STANDARD
DTSTART:20311026T020000
RDATE:20320328T030000
TZOFFSETFROM:+0200
TZOFFSETTO:+0100
TZNAME:Europe/Berlin CET
END:STANDARD
BEGIN:DAYLIGHT
DTSTART:20250917T000000
RDATE:20251026T020000
TZOFFSETFROM:+0100
TZOFFSETTO:+0200
TZNAME:Europe/Berlin CEST
END:DAYLIGHT
BEGIN:DAYLIGHT
DTSTART:20260329T030000
RDATE:20261025T020000
TZOFFSETFROM:+0100
TZOFFSETTO:+0200
TZNAME:Europe/Berlin CEST
END:DAYLIGHT
BEGIN:DAYLIGHT
DTSTART:20270328T030000
RDATE:20271031T020000
TZOFFSETFROM:+0100
TZOFFSETTO:+0200
TZNAME:Europe/Berlin CEST
END:DAYLIGHT
BEGIN:DAYLIGHT
DTSTART:20280326T030000
RDATE:20281029T020000
TZOFFSETFROM:+0100
TZOFFSETTO:+0200
TZNAME:Europe/Berlin CEST
END:DAYLIGHT
BEGIN:DAYLIGHT
DTSTART:20290325T030000
RDATE:20291028T020000
TZOFFSETFROM:+0100
TZOFFSETTO:+0200
TZNAME:Europe/Berlin CEST
END:DAYLIGHT
BEGIN:DAYLIGHT
DTSTART:20300331T030000
RDATE:20301027T020000
TZOFFSETFROM:+0100
TZOFFSETTO:+0200
TZNAME:Europe/Berlin CEST
END:DAYLIGHT
BEGIN:DAYLIGHT
DTSTART:20310330T030000
RDATE:20311026T020000
TZOFFSETFROM:+0100
TZOFFSETTO:+0200
TZNAME:Europe/Berlin CEST
END:DAYLIGHT
END:VTIMEZONE
BEGIN:VEVENT
UID:9cc5dad866b5c390784ffaf23aff0b1e
CATEGORIES:Wanderpaddeln, Seekajak-Touren
CREATED:20260319T195318
SUMMARY:Hermann Hesse Fahrt, Bodensee
DESCRIPTION:Anmeldung bis: 01.09.2026\nFahrtenleiter: Seekajakwart Diese E-Mail-Adresse
  ist vor Spambots geschützt! Zur Anzeige muss JavaScript eingeschaltet sein
 !
				document.getElementById('cloakbb59e1db75cc292656ddd5ff035e057c').inne
 rHTML = '';
				var prefix = '&#109;a' + 'i&#108;' + '&#116;o';
				var pat
 h = 'hr' + 'ef' + '=';
				var addybb59e1db75cc292656ddd5ff035e057c = 'w&#9
 7;nd&#101;rw&#97;rt' + '&#64;';
				addybb59e1db75cc292656ddd5ff035e057c = 
 addybb59e1db75cc292656ddd5ff035e057c + 'fff-fr&#101;&#105;b&#117;rg' + '&#4
 6;' + 'd&#101;?s&#117;bj&#101;ct=FFF:%20H&#101;rm&#97;nn%20H&#101;ss&#101;%
 20F&#97;hrt,%20B&#111;d&#101;ns&#101;&#101;';
				var addy_textbb59e1db75cc
 292656ddd5ff035e057c = 'H&#101;&#105;nr&#105;ch R&#111;l&#105;ng';document.
 getElementById('cloakbb59e1db75cc292656ddd5ff035e057c').innerHTML += '<a ti
 tle="E-Mail an Wander-/Seekajakwart Heinrich Roling" ' + path + '\'' + pref
 ix + ':' + addybb59e1db75cc292656ddd5ff035e057c + '\' target="_blank">'+add
 y_textbb59e1db75cc292656ddd5ff035e057c+'';
		\n                            
          Hermann Hesse Fahrt, Bodensee\nWie habe ich das kleine, schmucke F
 ahrzeug lieb! Eine Hymne an sein (Ruder)Boot, aus " Ein Bummeltag". \nVon 1
 904 bis 1912 lebte Hermann Hesse in Gaienhofen auf der Halbinsel Höri am Bo
 densee. Hesse´s ehemalige Wohngebäude wurden in ein attraktives Museum umge
 wandelt. Das Museum gibt faszinierende Einblicke in das Leben und Schaffen 
 des Literaturnobelpreisträgers.\nVom Kanuclub Singen, Iznang, aus werden wi
 r am Samstag, 19.09., nach Gaienhofen paddeln und dort auf den Spuren des S
 chriftstellers wandeln. Die Strecke hin und zurück beträgt ca. 18 Kilometer
 . Zu empfehlen sind Wander- und Seekajaks. Schwimmweste ist Pflicht.\nWer m
 ag, kann gerne seine Lieblingsstellen aus dem Schaffen Hermann Hesse´s mitb
 ringen und uns vorlesen.\nAm Sonntag, 20.09., ist „freies“ Paddeln angesagt
 , eventuell zur Liebesinsel oder rüber zur Reichenau.\n                    
  Standort: Kanuclub Singen, Iznang, www.kanuclub-singen.de (http://www.kanu
 club-singen.de)\n                         Termin: 18. bis 20.9.2026\n      
     Fahrtenleitung: Heinrich und Roland\nInfo und Anmeldung: Heinrich Rolin
 g, Wanderwart Seekajak\n         Mail an Heinrich: Diese E-Mail-Adresse ist
  vor Spambots geschützt! Zur Anzeige muss JavaScript eingeschaltet sein!
		
 		document.getElementById('cloake657806b21562bc8ceca11dede5005c8').innerHTM
 L = '';
				var prefix = '&#109;a' + 'i&#108;' + '&#116;o';
				var path = 
 'hr' + 'ef' + '=';
				var addye657806b21562bc8ceca11dede5005c8 = 'w&#97;nd
 &#101;rw&#97;rt' + '&#64;';
				addye657806b21562bc8ceca11dede5005c8 = addy
 e657806b21562bc8ceca11dede5005c8 + 'fff-fr&#101;&#105;b&#117;rg' + '&#46;' 
 + 'd&#101;?s&#117;bj&#101;ct=FFF:%20H&#101;rm&#97;nn%20H&#101;ss&#101;%20F&
 #97;hrt,%20B&#111;d&#101;ns&#101;&#101;';
				var addy_texte657806b21562bc8
 ceca11dede5005c8 = 'w&#97;nd&#101;rw&#97;rt' + '&#64;' + 'fff-fr&#101;&#105
 ;b&#117;rg' + '&#46;' + 'd&#101;';document.getElementById('cloake657806b215
 62bc8ceca11dede5005c8').innerHTML += '<a title="E-Mail an Wander-/Seekajakw
 art Heinrich" ' + path + '\'' + prefix + ':' + addye657806b21562bc8ceca11de
 de5005c8 + '\' target="_blank">'+addy_texte657806b21562bc8ceca11dede5005c8+
 '';
		\n \n
X-ALT-DESC;FMTTYPE=text/html:<p><strong>Anmeldung bis:</strong> 01.09.2026</p><p style="text-align: righ
 t;"><strong><span style="color: #3366ff;">Fahrtenleiter:</span></strong> Se
 ekajakwart <span id="cloakbb59e1db75cc292656ddd5ff035e057c">Diese E-Mail-Ad
 resse ist vor Spambots geschützt! Zur Anzeige muss JavaScript eingeschaltet
  sein!</span><script type='text/javascript'>
				document.getElementById('c
 loakbb59e1db75cc292656ddd5ff035e057c').innerHTML = '';
				var prefix = '&#
 109;a' + 'i&#108;' + '&#116;o';
				var path = 'hr' + 'ef' + '=';
				var a
 ddybb59e1db75cc292656ddd5ff035e057c = 'w&#97;nd&#101;rw&#97;rt' + '&#64;';

 				addybb59e1db75cc292656ddd5ff035e057c = addybb59e1db75cc292656ddd5ff035e
 057c + 'fff-fr&#101;&#105;b&#117;rg' + '&#46;' + 'd&#101;?s&#117;bj&#101;ct
 =FFF:%20H&#101;rm&#97;nn%20H&#101;ss&#101;%20F&#97;hrt,%20B&#111;d&#101;ns&
 #101;&#101;';
				var addy_textbb59e1db75cc292656ddd5ff035e057c = 'H&#101;&
 #105;nr&#105;ch R&#111;l&#105;ng';document.getElementById('cloakbb59e1db75c
 c292656ddd5ff035e057c').innerHTML += '<a title="E-Mail an Wander-/Seekajakw
 art Heinrich Roling" ' + path + '\'' + prefix + ':' + addybb59e1db75cc29265
 6ddd5ff035e057c + '\' target="_blank">'+addy_textbb59e1db75cc292656ddd5ff03
 5e057c+'<\/a>';
		</script></p><p><span style="font-size: 18pt;">&nbsp; &nb
 sp; &nbsp; &nbsp; &nbsp; &nbsp; &nbsp; &nbsp; &nbsp; &nbsp; &nbsp; &nbsp; &
 nbsp; &nbsp; &nbsp; &nbsp; &nbsp; &nbsp; &nbsp;<span style="font-family: co
 mic sans ms, sans-serif; color: #3366ff;"><span style="font-size: 24pt;">He
 rmann Hesse Fahrt</span>, Bodensee</span></span></p><p><em>Wie habe ich das
  kleine, schmucke Fahrzeug lieb! </em>Eine Hymne an sein (Ruder)Boot, aus <
 em>" Ein Bummeltag".&nbsp;</em></p><p>Von 1904 bis 1912 lebte Hermann Hesse
  in Gaienhofen auf der Halbinsel Höri am Bodensee. Hesse´s ehemalige Wohnge
 bäude wurden in ein attraktives Museum umgewandelt. Das Museum gibt faszini
 erende Einblicke in das Leben und Schaffen des Literaturnobelpreisträgers.<
 /p><p>Vom Kanuclub Singen, Iznang, aus werden wir am Samstag, 19.09., nach 
 Gaienhofen paddeln und dort auf den Spuren des Schriftstellers wandeln. Die
  Strecke hin und zurück beträgt ca. 18 Kilometer. Zu empfehlen sind Wander-
  und Seekajaks. Schwimmweste ist Pflicht.</p><p>Wer mag, kann gerne seine L
 ieblingsstellen aus dem Schaffen Hermann Hesse´s mitbringen und uns vorlese
 n.</p><p>Am Sonntag, 20.09., ist „freies“ Paddeln angesagt, eventuell zur L
 iebesinsel oder rüber zur Reichenau.</p><p>&nbsp; &nbsp; &nbsp; &nbsp; &nbs
 p; &nbsp; &nbsp; &nbsp; &nbsp; &nbsp; &nbsp;<strong>Standort:</strong>&nbsp
 ;Kanuclub Singen, Iznang, <a title="zur Homepage zum Kanuclub Singen, Iznan
 g" href="http://www.kanuclub-singen.de" target="_blank" rel="noopener">www.
 kanuclub-singen.de</a></p><p>&nbsp; &nbsp; &nbsp; &nbsp; &nbsp; &nbsp; &nbs
 p; &nbsp; &nbsp; &nbsp; &nbsp; &nbsp; &nbsp;<strong>Termin:</strong>&nbsp;1
 8. bis 20.9.2026</p><p>&nbsp; &nbsp; &nbsp; &nbsp; &nbsp; <strong>Fahrtenle
 itung:</strong> Heinrich und Roland</p><p><strong>Info und Anmeldung:</stro
 ng> Heinrich Roling, Wanderwart Seekajak</p><p>&nbsp; &nbsp; &nbsp; &nbsp; 
 &nbsp;<strong>Mail an Heinrich:&nbsp;</strong><span id="cloake657806b21562b
 c8ceca11dede5005c8">Diese E-Mail-Adresse ist vor Spambots geschützt! Zur An
 zeige muss JavaScript eingeschaltet sein!</span><script type='text/javascri
 pt'>
				document.getElementById('cloake657806b21562bc8ceca11dede5005c8').i
 nnerHTML = '';
				var prefix = '&#109;a' + 'i&#108;' + '&#116;o';
				var 
 path = 'hr' + 'ef' + '=';
				var addye657806b21562bc8ceca11dede5005c8 = 'w
 &#97;nd&#101;rw&#97;rt' + '&#64;';
				addye657806b21562bc8ceca11dede5005c8
  = addye657806b21562bc8ceca11dede5005c8 + 'fff-fr&#101;&#105;b&#117;rg' + '
 &#46;' + 'd&#101;?s&#117;bj&#101;ct=FFF:%20H&#101;rm&#97;nn%20H&#101;ss&#10
 1;%20F&#97;hrt,%20B&#111;d&#101;ns&#101;&#101;';
				var addy_texte657806b2
 1562bc8ceca11dede5005c8 = 'w&#97;nd&#101;rw&#97;rt' + '&#64;' + 'fff-fr&#10
 1;&#105;b&#117;rg' + '&#46;' + 'd&#101;';document.getElementById('cloake657
 806b21562bc8ceca11dede5005c8').innerHTML += '<a title="E-Mail an Wander-/Se
 ekajakwart Heinrich" ' + path + '\'' + prefix + ':' + addye657806b21562bc8c
 eca11dede5005c8 + '\' target="_blank">'+addy_texte657806b21562bc8ceca11dede
 5005c8+'<\/a>';
		</script></p><p>&nbsp;</p>
DTSTAMP:20260423T020926
DTSTART;TZID=Europe/Berlin;VALUE=DATE:20260918
DTEND;TZID=Europe/Berlin;VALUE=DATE:20260921
SEQUENCE:0
TRANSP:OPAQUE
END:VEVENT
END:VCALENDAR