BEGIN:VCALENDAR
VERSION:2.0
PRODID:-//jEvents 2.0 for Joomla//EN
CALSCALE:GREGORIAN
METHOD:PUBLISH
BEGIN:VTIMEZONE
TZID:Europe/Berlin
BEGIN:STANDARD
DTSTART:20221030T020000
RDATE:20230326T030000
TZOFFSETFROM:+0200
TZOFFSETTO:+0100
TZNAME:Europe/Berlin CET
END:STANDARD
BEGIN:STANDARD
DTSTART:20231029T020000
RDATE:20240331T030000
TZOFFSETFROM:+0200
TZOFFSETTO:+0100
TZNAME:Europe/Berlin CET
END:STANDARD
BEGIN:STANDARD
DTSTART:20241027T020000
RDATE:20250330T030000
TZOFFSETFROM:+0200
TZOFFSETTO:+0100
TZNAME:Europe/Berlin CET
END:STANDARD
BEGIN:STANDARD
DTSTART:20251026T020000
RDATE:20260329T030000
TZOFFSETFROM:+0200
TZOFFSETTO:+0100
TZNAME:Europe/Berlin CET
END:STANDARD
BEGIN:STANDARD
DTSTART:20261025T020000
RDATE:20270328T030000
TZOFFSETFROM:+0200
TZOFFSETTO:+0100
TZNAME:Europe/Berlin CET
END:STANDARD
BEGIN:STANDARD
DTSTART:20271031T020000
RDATE:20280326T030000
TZOFFSETFROM:+0200
TZOFFSETTO:+0100
TZNAME:Europe/Berlin CET
END:STANDARD
BEGIN:STANDARD
DTSTART:20281029T020000
RDATE:20290325T030000
TZOFFSETFROM:+0200
TZOFFSETTO:+0100
TZNAME:Europe/Berlin CET
END:STANDARD
BEGIN:STANDARD
DTSTART:20291028T020000
RDATE:20300331T030000
TZOFFSETFROM:+0200
TZOFFSETTO:+0100
TZNAME:Europe/Berlin CET
END:STANDARD
BEGIN:STANDARD
DTSTART:20301027T020000
RDATE:20310330T030000
TZOFFSETFROM:+0200
TZOFFSETTO:+0100
TZNAME:Europe/Berlin CET
END:STANDARD
BEGIN:STANDARD
DTSTART:20311026T020000
RDATE:20320328T030000
TZOFFSETFROM:+0200
TZOFFSETTO:+0100
TZNAME:Europe/Berlin CET
END:STANDARD
BEGIN:DAYLIGHT
DTSTART:20220611T180000
RDATE:20221030T020000
TZOFFSETFROM:+0100
TZOFFSETTO:+0200
TZNAME:Europe/Berlin CEST
END:DAYLIGHT
BEGIN:DAYLIGHT
DTSTART:20230326T030000
RDATE:20231029T020000
TZOFFSETFROM:+0100
TZOFFSETTO:+0200
TZNAME:Europe/Berlin CEST
END:DAYLIGHT
BEGIN:DAYLIGHT
DTSTART:20240331T030000
RDATE:20241027T020000
TZOFFSETFROM:+0100
TZOFFSETTO:+0200
TZNAME:Europe/Berlin CEST
END:DAYLIGHT
BEGIN:DAYLIGHT
DTSTART:20250330T030000
RDATE:20251026T020000
TZOFFSETFROM:+0100
TZOFFSETTO:+0200
TZNAME:Europe/Berlin CEST
END:DAYLIGHT
BEGIN:DAYLIGHT
DTSTART:20260329T030000
RDATE:20261025T020000
TZOFFSETFROM:+0100
TZOFFSETTO:+0200
TZNAME:Europe/Berlin CEST
END:DAYLIGHT
BEGIN:DAYLIGHT
DTSTART:20270328T030000
RDATE:20271031T020000
TZOFFSETFROM:+0100
TZOFFSETTO:+0200
TZNAME:Europe/Berlin CEST
END:DAYLIGHT
BEGIN:DAYLIGHT
DTSTART:20280326T030000
RDATE:20281029T020000
TZOFFSETFROM:+0100
TZOFFSETTO:+0200
TZNAME:Europe/Berlin CEST
END:DAYLIGHT
BEGIN:DAYLIGHT
DTSTART:20290325T030000
RDATE:20291028T020000
TZOFFSETFROM:+0100
TZOFFSETTO:+0200
TZNAME:Europe/Berlin CEST
END:DAYLIGHT
BEGIN:DAYLIGHT
DTSTART:20300331T030000
RDATE:20301027T020000
TZOFFSETFROM:+0100
TZOFFSETTO:+0200
TZNAME:Europe/Berlin CEST
END:DAYLIGHT
BEGIN:DAYLIGHT
DTSTART:20310330T030000
RDATE:20311026T020000
TZOFFSETFROM:+0100
TZOFFSETTO:+0200
TZNAME:Europe/Berlin CEST
END:DAYLIGHT
END:VTIMEZONE
BEGIN:VEVENT
UID:5dd999dc0a64b0d75cb73b49d4832481
CATEGORIES:Wanderpaddeln
CREATED:20230212T224507
SUMMARY:Einsteiger-Schnupper-Paddeln am Opfi
DESCRIPTION:Organisatoren: Sportwart Diese E-Mail-Adresse ist vor Spambots geschützt! Z
 ur Anzeige muss JavaScript eingeschaltet sein!
				document.getElementById(
 'cloakfc2a2e6fd250ba6158db798d672e7c7b').innerHTML = '';
				var prefix = '
 &#109;a' + 'i&#108;' + '&#116;o';
				var path = 'hr' + 'ef' + '=';
				var
  addyfc2a2e6fd250ba6158db798d672e7c7b = 'sp&#111;rtw&#97;rt' + '&#64;';
			
 	addyfc2a2e6fd250ba6158db798d672e7c7b = addyfc2a2e6fd250ba6158db798d672e7c7
 b + 'fff-fr&#101;&#105;b&#117;rg' + '&#46;' + 'd&#101;?cc=v&#111;rst&#97;nd
 ' + '&#46;' + 'k&#97;rl-fr&#105;&#101;dr&#105;ch';
				var addy_textfc2a2e6
 fd250ba6158db798d672e7c7b = 'Ulr&#105;ch R&#105;cht&#101;r';document.getEle
 mentById('cloakfc2a2e6fd250ba6158db798d672e7c7b').innerHTML += '<a title="E
 -Mail an Organisatoren des Schnupper-Paddeln Ulrich &amp; KF" ' + path + '\
 '' + prefix + ':' + addyfc2a2e6fd250ba6158db798d672e7c7b + '\' target="_bla
 nk">'+addy_textfc2a2e6fd250ba6158db798d672e7c7b+'';
		 und Diese E-Mail-Adr
 esse ist vor Spambots geschützt! Zur Anzeige muss JavaScript eingeschaltet 
 sein!
				document.getElementById('cloakeffdd13a5d2f99b61c9e952f2a21da99').
 innerHTML = '';
				var prefix = '&#109;a' + 'i&#108;' + '&#116;o';
				var
  path = 'hr' + 'ef' + '=';
				var addyeffdd13a5d2f99b61c9e952f2a21da99 = '
 v&#111;rst&#97;nd.k&#97;rl-fr&#105;&#101;dr&#105;ch' + '&#64;';
				addyeff
 dd13a5d2f99b61c9e952f2a21da99 = addyeffdd13a5d2f99b61c9e952f2a21da99 + 'fff
 -fr&#101;&#105;b&#117;rg' + '&#46;' + 'd&#101;?cc=sp&#111;rtw&#97;rt';
				
 var addy_texteffdd13a5d2f99b61c9e952f2a21da99 = 'K&#97;rl-Fr&#105;&#101;dr&
 #105;ch St&uuml;lpn&#97;g&#101;l';document.getElementById('cloakeffdd13a5d2
 f99b61c9e952f2a21da99').innerHTML += '<a title="E-Mail an Organisatoren des
  Schnupper-Paddeln Ulrich &amp; KF" ' + path + '\'' + prefix + ':' + addyef
 fdd13a5d2f99b61c9e952f2a21da99 + '\' target="_blank">'+addy_texteffdd13a5d2
 f99b61c9e952f2a21da99+'';
		\nDu hast Lust, das Kajakfahren auszuprobieren?
 \nAusschreibung folgt ...\nAnmeldepflicht: Bitte melde Dich beim Sportwart 
 Ulrich Richter unter Diese E-Mail-Adresse ist vor Spambots geschützt! Zur A
 nzeige muss JavaScript eingeschaltet sein!
				document.getElementById('clo
 ak4ad011436f6d3ccc17551c714ba1addd').innerHTML = '';
				var prefix = '&#10
 9;a' + 'i&#108;' + '&#116;o';
				var path = 'hr' + 'ef' + '=';
				var add
 y4ad011436f6d3ccc17551c714ba1addd = 'sp&#111;rtw&#97;rt' + '&#64;';
				add
 y4ad011436f6d3ccc17551c714ba1addd = addy4ad011436f6d3ccc17551c714ba1addd + 
 'fff-fr&#101;&#105;b&#117;rg' + '&#46;' + 'd&#101;';
				var addy_text4ad01
 1436f6d3ccc17551c714ba1addd = 'sp&#111;rtw&#97;rt' + '&#64;' + 'fff-fr&#101
 ;&#105;b&#117;rg' + '&#46;' + 'd&#101;';document.getElementById('cloak4ad01
 1436f6d3ccc17551c714ba1addd').innerHTML += '<a ' + path + '\'' + prefix + '
 :' + addy4ad011436f6d3ccc17551c714ba1addd + '\'>'+addy_text4ad011436f6d3ccc
 17551c714ba1addd+'';
		 an.\n
X-ALT-DESC;FMTTYPE=text/html:<p style="text-align: right;"><strong><span style="color: #3366ff;">Organis
 atoren:</span></strong> Sportwart <span id="cloakfc2a2e6fd250ba6158db798d67
 2e7c7b">Diese E-Mail-Adresse ist vor Spambots geschützt! Zur Anzeige muss J
 avaScript eingeschaltet sein!</span><script type='text/javascript'>
				doc
 ument.getElementById('cloakfc2a2e6fd250ba6158db798d672e7c7b').innerHTML = '
 ';
				var prefix = '&#109;a' + 'i&#108;' + '&#116;o';
				var path = 'hr' 
 + 'ef' + '=';
				var addyfc2a2e6fd250ba6158db798d672e7c7b = 'sp&#111;rtw&#
 97;rt' + '&#64;';
				addyfc2a2e6fd250ba6158db798d672e7c7b = addyfc2a2e6fd2
 50ba6158db798d672e7c7b + 'fff-fr&#101;&#105;b&#117;rg' + '&#46;' + 'd&#101;
 ?cc=v&#111;rst&#97;nd' + '&#46;' + 'k&#97;rl-fr&#105;&#101;dr&#105;ch';
			
 	var addy_textfc2a2e6fd250ba6158db798d672e7c7b = 'Ulr&#105;ch R&#105;cht&#1
 01;r';document.getElementById('cloakfc2a2e6fd250ba6158db798d672e7c7b').inne
 rHTML += '<a title="E-Mail an Organisatoren des Schnupper-Paddeln Ulrich &a
 mp; KF" ' + path + '\'' + prefix + ':' + addyfc2a2e6fd250ba6158db798d672e7c
 7b + '\' target="_blank">'+addy_textfc2a2e6fd250ba6158db798d672e7c7b+'<\/a>
 ';
		</script> und <span id="cloakeffdd13a5d2f99b61c9e952f2a21da99">Diese E
 -Mail-Adresse ist vor Spambots geschützt! Zur Anzeige muss JavaScript einge
 schaltet sein!</span><script type='text/javascript'>
				document.getElemen
 tById('cloakeffdd13a5d2f99b61c9e952f2a21da99').innerHTML = '';
				var pref
 ix = '&#109;a' + 'i&#108;' + '&#116;o';
				var path = 'hr' + 'ef' + '=';
	
 			var addyeffdd13a5d2f99b61c9e952f2a21da99 = 'v&#111;rst&#97;nd.k&#97;rl-f
 r&#105;&#101;dr&#105;ch' + '&#64;';
				addyeffdd13a5d2f99b61c9e952f2a21da9
 9 = addyeffdd13a5d2f99b61c9e952f2a21da99 + 'fff-fr&#101;&#105;b&#117;rg' + 
 '&#46;' + 'd&#101;?cc=sp&#111;rtw&#97;rt';
				var addy_texteffdd13a5d2f99b
 61c9e952f2a21da99 = 'K&#97;rl-Fr&#105;&#101;dr&#105;ch St&uuml;lpn&#97;g&#1
 01;l';document.getElementById('cloakeffdd13a5d2f99b61c9e952f2a21da99').inne
 rHTML += '<a title="E-Mail an Organisatoren des Schnupper-Paddeln Ulrich &a
 mp; KF" ' + path + '\'' + prefix + ':' + addyeffdd13a5d2f99b61c9e952f2a21da
 99 + '\' target="_blank">'+addy_texteffdd13a5d2f99b61c9e952f2a21da99+'<\/a>
 ';
		</script></p><p style="text-align: center;"><span style="font-family: 
 comic sans ms, sans-serif; font-size: 18pt;">Du hast Lust, das Kajakfahren 
 auszuprobieren?</span></p><p>Ausschreibung folgt ...</p><p><strong>Anmeldep
 flicht:</strong> Bitte melde Dich beim Sportwart Ulrich Richter unter <span
  id="cloak4ad011436f6d3ccc17551c714ba1addd">Diese E-Mail-Adresse ist vor Sp
 ambots geschützt! Zur Anzeige muss JavaScript eingeschaltet sein!</span><sc
 ript type='text/javascript'>
				document.getElementById('cloak4ad011436f6d
 3ccc17551c714ba1addd').innerHTML = '';
				var prefix = '&#109;a' + 'i&#108
 ;' + '&#116;o';
				var path = 'hr' + 'ef' + '=';
				var addy4ad011436f6d3
 ccc17551c714ba1addd = 'sp&#111;rtw&#97;rt' + '&#64;';
				addy4ad011436f6d3
 ccc17551c714ba1addd = addy4ad011436f6d3ccc17551c714ba1addd + 'fff-fr&#101;&
 #105;b&#117;rg' + '&#46;' + 'd&#101;';
				var addy_text4ad011436f6d3ccc175
 51c714ba1addd = 'sp&#111;rtw&#97;rt' + '&#64;' + 'fff-fr&#101;&#105;b&#117;
 rg' + '&#46;' + 'd&#101;';document.getElementById('cloak4ad011436f6d3ccc175
 51c714ba1addd').innerHTML += '<a ' + path + '\'' + prefix + ':' + addy4ad01
 1436f6d3ccc17551c714ba1addd + '\'>'+addy_text4ad011436f6d3ccc17551c714ba1ad
 dd+'<\/a>';
		</script> an.</p>
DTSTAMP:20260419T232753
DTSTART;TZID=Europe/Berlin:20230612T180000
SEQUENCE:0
TRANSP:OPAQUE
END:VEVENT
END:VCALENDAR