BEGIN:VCALENDAR
VERSION:2.0
PRODID:-//jEvents 2.0 for Joomla//EN
CALSCALE:GREGORIAN
METHOD:PUBLISH
BEGIN:VTIMEZONE
TZID:Europe/Berlin
BEGIN:STANDARD
DTSTART:20231029T020000
RDATE:20240331T030000
TZOFFSETFROM:+0200
TZOFFSETTO:+0100
TZNAME:Europe/Berlin CET
END:STANDARD
BEGIN:STANDARD
DTSTART:20241027T020000
RDATE:20250330T030000
TZOFFSETFROM:+0200
TZOFFSETTO:+0100
TZNAME:Europe/Berlin CET
END:STANDARD
BEGIN:STANDARD
DTSTART:20251026T020000
RDATE:20260329T030000
TZOFFSETFROM:+0200
TZOFFSETTO:+0100
TZNAME:Europe/Berlin CET
END:STANDARD
BEGIN:STANDARD
DTSTART:20261025T020000
RDATE:20270328T030000
TZOFFSETFROM:+0200
TZOFFSETTO:+0100
TZNAME:Europe/Berlin CET
END:STANDARD
BEGIN:STANDARD
DTSTART:20271031T020000
RDATE:20280326T030000
TZOFFSETFROM:+0200
TZOFFSETTO:+0100
TZNAME:Europe/Berlin CET
END:STANDARD
BEGIN:STANDARD
DTSTART:20281029T020000
RDATE:20290325T030000
TZOFFSETFROM:+0200
TZOFFSETTO:+0100
TZNAME:Europe/Berlin CET
END:STANDARD
BEGIN:STANDARD
DTSTART:20291028T020000
RDATE:20300331T030000
TZOFFSETFROM:+0200
TZOFFSETTO:+0100
TZNAME:Europe/Berlin CET
END:STANDARD
BEGIN:STANDARD
DTSTART:20301027T020000
RDATE:20310330T030000
TZOFFSETFROM:+0200
TZOFFSETTO:+0100
TZNAME:Europe/Berlin CET
END:STANDARD
BEGIN:STANDARD
DTSTART:20311026T020000
RDATE:20320328T030000
TZOFFSETFROM:+0200
TZOFFSETTO:+0100
TZNAME:Europe/Berlin CET
END:STANDARD
BEGIN:DAYLIGHT
DTSTART:20230729T180000
RDATE:20231029T020000
TZOFFSETFROM:+0100
TZOFFSETTO:+0200
TZNAME:Europe/Berlin CEST
END:DAYLIGHT
BEGIN:DAYLIGHT
DTSTART:20240331T030000
RDATE:20241027T020000
TZOFFSETFROM:+0100
TZOFFSETTO:+0200
TZNAME:Europe/Berlin CEST
END:DAYLIGHT
BEGIN:DAYLIGHT
DTSTART:20250330T030000
RDATE:20251026T020000
TZOFFSETFROM:+0100
TZOFFSETTO:+0200
TZNAME:Europe/Berlin CEST
END:DAYLIGHT
BEGIN:DAYLIGHT
DTSTART:20260329T030000
RDATE:20261025T020000
TZOFFSETFROM:+0100
TZOFFSETTO:+0200
TZNAME:Europe/Berlin CEST
END:DAYLIGHT
BEGIN:DAYLIGHT
DTSTART:20270328T030000
RDATE:20271031T020000
TZOFFSETFROM:+0100
TZOFFSETTO:+0200
TZNAME:Europe/Berlin CEST
END:DAYLIGHT
BEGIN:DAYLIGHT
DTSTART:20280326T030000
RDATE:20281029T020000
TZOFFSETFROM:+0100
TZOFFSETTO:+0200
TZNAME:Europe/Berlin CEST
END:DAYLIGHT
BEGIN:DAYLIGHT
DTSTART:20290325T030000
RDATE:20291028T020000
TZOFFSETFROM:+0100
TZOFFSETTO:+0200
TZNAME:Europe/Berlin CEST
END:DAYLIGHT
BEGIN:DAYLIGHT
DTSTART:20300331T030000
RDATE:20301027T020000
TZOFFSETFROM:+0100
TZOFFSETTO:+0200
TZNAME:Europe/Berlin CEST
END:DAYLIGHT
BEGIN:DAYLIGHT
DTSTART:20310330T030000
RDATE:20311026T020000
TZOFFSETFROM:+0100
TZOFFSETTO:+0200
TZNAME:Europe/Berlin CEST
END:DAYLIGHT
END:VTIMEZONE
BEGIN:VEVENT
UID:6fd73d30197fa955abf312d9fe68c2a3
CATEGORIES:Wanderpaddeln
CREATED:20240123T222739
SUMMARY:Einsteiger-Schnupper-Paddeln am Opfi
DESCRIPTION:Organisatoren: Sportwarte Diese E-Mail-Adresse ist vor Spambots geschützt! 
 Zur Anzeige muss JavaScript eingeschaltet sein!
				document.getElementById
 ('cloakb37985441d25b9a91e2adedf4d6f6ab2').innerHTML = '';
				var prefix = 
 '&#109;a' + 'i&#108;' + '&#116;o';
				var path = 'hr' + 'ef' + '=';
				va
 r addyb37985441d25b9a91e2adedf4d6f6ab2 = 'sp&#111;rtw&#97;rt' + '&#64;';
		
 		addyb37985441d25b9a91e2adedf4d6f6ab2 = addyb37985441d25b9a91e2adedf4d6f6a
 b2 + 'fff-fr&#101;&#105;b&#117;rg' + '&#46;' + 'd&#101;?s&#117;bj&#101;ct=S
 chn&#117;pp&#101;r-P&#97;dd&#101;ln';
				var addy_textb37985441d25b9a91e2a
 dedf4d6f6ab2 = 'Ulr&#105;ch R&#105;cht&#101;r &amp; J&#111;ch&#101;n M&#97;
 chn&#111;w';document.getElementById('cloakb37985441d25b9a91e2adedf4d6f6ab2'
 ).innerHTML += '<a title="E-Mail an Organisatoren des Schnupper-Paddeln Ulr
 ich &amp; Jochen" ' + path + '\'' + prefix + ':' + addyb37985441d25b9a91e2a
 dedf4d6f6ab2 + '\' target="_blank">'+addy_textb37985441d25b9a91e2adedf4d6f6
 ab2+'';
		\nDu hast Lust, das Kajakfahren auszuprobieren?\nDer Opfinger Bag
 gersee ist unser Trainings-Revier: Über die Sommermonate treffen wir uns je
 den Montagabend zum Rollen, Stützen, Paddeln.\nHast auch Du Lust, das Padde
 ln auszuprobieren? Mal in ein Kajak zu sitzen und ein Paddel in die Hand zu
  nehmen? Der Baggersee eignet sich gerade für Paddel-Anfänger hervorragend 
 dazu, die ersten Paddelschläge auszuprobieren. Wir bieten in den Sommer­mon
 aten an speziellen Montagsterminen auch Kennenlern-Schulungen oder Einsteig
 er­schnuppern für Anfänger an. Du hast Lust, unseren Sport mal auszuprobier
 en:\nKomm doch einfach vorbei am Opfinger Baggersee\nJuni: am 17.06.2024 ab
  18 Uhr                        oder                 Juli: am 29.07.2024 ab 
 18 Uhr\nDu bist herzlich eingeladen, den Kanusport und uns kennenzulernen. 
 Unser Trainer-Team freut sich: Bitte melde Dich unter Diese E-Mail-Adresse 
 ist vor Spambots geschützt! Zur Anzeige muss JavaScript eingeschaltet sein!
 
				document.getElementById('cloak636e4025ec211a1a854e3ca055466180').inner
 HTML = '';
				var prefix = 'ma' + 'il' + 'to';
				var path = 'hr' + 'ef' 
 + '=';
				var addy636e4025ec211a1a854e3ca055466180 = 'sportwart' + '@';
		
 		addy636e4025ec211a1a854e3ca055466180 = addy636e4025ec211a1a854e3ca0554661
 80 + 'fff-freiburg' + '.' + 'de?subject=FFF:%20Schnupperpaddeln';
				var a
 ddy_text636e4025ec211a1a854e3ca055466180 = 'sportwart' + '@' + 'fff-freibur
 g' + '.' + 'de';document.getElementById('cloak636e4025ec211a1a854e3ca055466
 180').innerHTML += '<a title="E-Mail an die beiden Sportwarte Ulrich & Joch
 en" ' + path + '\'' + prefix + ':' + addy636e4025ec211a1a854e3ca055466180 +
  '\' target="_blank">'+addy_text636e4025ec211a1a854e3ca055466180+'';
		 bei
  unseren Sportwarten Jochen und Ulrich an. Für das Schnupperpaddeln besteht
  eine Anmeldepflicht!\n \n
X-ALT-DESC;FMTTYPE=text/html:<p style="text-align: right;"><strong><span style="color: #3366ff;">Organis
 atoren:</span></strong> Sportwarte <span id="cloakb37985441d25b9a91e2adedf4
 d6f6ab2">Diese E-Mail-Adresse ist vor Spambots geschützt! Zur Anzeige muss 
 JavaScript eingeschaltet sein!</span><script type='text/javascript'>
				do
 cument.getElementById('cloakb37985441d25b9a91e2adedf4d6f6ab2').innerHTML = 
 '';
				var prefix = '&#109;a' + 'i&#108;' + '&#116;o';
				var path = 'hr'
  + 'ef' + '=';
				var addyb37985441d25b9a91e2adedf4d6f6ab2 = 'sp&#111;rtw&
 #97;rt' + '&#64;';
				addyb37985441d25b9a91e2adedf4d6f6ab2 = addyb37985441
 d25b9a91e2adedf4d6f6ab2 + 'fff-fr&#101;&#105;b&#117;rg' + '&#46;' + 'd&#101
 ;?s&#117;bj&#101;ct=Schn&#117;pp&#101;r-P&#97;dd&#101;ln';
				var addy_tex
 tb37985441d25b9a91e2adedf4d6f6ab2 = 'Ulr&#105;ch R&#105;cht&#101;r &amp; J&
 #111;ch&#101;n M&#97;chn&#111;w';document.getElementById('cloakb37985441d25
 b9a91e2adedf4d6f6ab2').innerHTML += '<a title="E-Mail an Organisatoren des 
 Schnupper-Paddeln Ulrich &amp; Jochen" ' + path + '\'' + prefix + ':' + add
 yb37985441d25b9a91e2adedf4d6f6ab2 + '\' target="_blank">'+addy_textb3798544
 1d25b9a91e2adedf4d6f6ab2+'<\/a>';
		</script></p><p style="text-align: cent
 er;"><strong><span style="font-family: comic sans ms, sans-serif; font-size
 : 18pt; color: #ff9900;">Du hast Lust, das Kajakfahren auszuprobieren?</spa
 n></strong></p><p>Der Opfinger Baggersee ist unser Trainings-Revier: Über d
 ie Sommermonate treffen wir uns jeden Montagabend zum Rollen, Stützen, Padd
 eln.</p><p>Hast auch Du Lust, das Paddeln auszuprobieren? Mal in ein Kajak 
 zu sitzen und ein Paddel in die Hand zu nehmen? Der Baggersee eignet sich g
 erade für Paddel-Anfänger hervorragend dazu, die ersten Paddelschläge auszu
 probieren. Wir bieten in den Sommer­monaten an speziellen Montagsterminen a
 uch Kennenlern-Schulungen oder Einsteiger­schnuppern für Anfänger an. Du ha
 st Lust, unseren Sport mal auszuprobieren:</p><p><strong>Komm doch einfach 
 vorbei am Opfinger Baggersee</strong></p><p><strong>Juni:</strong> am 17.06
 .2024 ab 18 Uhr &nbsp;&nbsp;&nbsp;&nbsp;&nbsp;&nbsp;&nbsp;&nbsp;&nbsp;&nbsp
 ;&nbsp;&nbsp;&nbsp;&nbsp;&nbsp;&nbsp;&nbsp;&nbsp;&nbsp;&nbsp;&nbsp;&nbsp; o
 der &nbsp;&nbsp;&nbsp;&nbsp;&nbsp;&nbsp;&nbsp;&nbsp;&nbsp;&nbsp;&nbsp;&nbsp
 ;&nbsp;&nbsp;&nbsp; <strong>Juli:</strong> am 29.07.2024 ab 18 Uhr</p><p>Du
  bist herzlich eingeladen, den Kanusport und uns kennenzulernen. Unser Trai
 ner-Team freut sich: Bitte melde Dich unter&nbsp;<span id="cloak636e4025ec2
 11a1a854e3ca055466180">Diese E-Mail-Adresse ist vor Spambots geschützt! Zur
  Anzeige muss JavaScript eingeschaltet sein!</span><script type='text/javas
 cript'>
				document.getElementById('cloak636e4025ec211a1a854e3ca055466180'
 ).innerHTML = '';
				var prefix = 'ma' + 'il' + 'to';
				var path = 'hr' 
 + 'ef' + '=';
				var addy636e4025ec211a1a854e3ca055466180 = 'sportwart' + 
 '@';
				addy636e4025ec211a1a854e3ca055466180 = addy636e4025ec211a1a854e3ca
 055466180 + 'fff-freiburg' + '.' + 'de?subject=FFF:%20Schnupperpaddeln';
		
 		var addy_text636e4025ec211a1a854e3ca055466180 = '<strong>sportwart' + '@'
  + 'fff-freiburg' + '.' + 'de</strong>';document.getElementById('cloak636e4
 025ec211a1a854e3ca055466180').innerHTML += '<a title="E-Mail an die beiden 
 Sportwarte Ulrich & Jochen" ' + path + '\'' + prefix + ':' + addy636e4025ec
 211a1a854e3ca055466180 + '\' target="_blank">'+addy_text636e4025ec211a1a854
 e3ca055466180+'<\/a>';
		</script> bei unseren Sportwarten Jochen und Ulric
 h an. Für das Schnupperpaddeln besteht eine <strong><strong>Anmeldepflicht!
 </strong></strong></p><p>&nbsp;</p>
DTSTAMP:20260420T103323
DTSTART;TZID=Europe/Berlin:20240729T180000
SEQUENCE:0
TRANSP:OPAQUE
END:VEVENT
END:VCALENDAR