BEGIN:VCALENDAR
VERSION:2.0
PRODID:-//jEvents 2.0 for Joomla//EN
CALSCALE:GREGORIAN
METHOD:PUBLISH
BEGIN:VTIMEZONE
TZID:Europe/Berlin
BEGIN:STANDARD
DTSTART:20231029T020000
RDATE:20240331T030000
TZOFFSETFROM:+0200
TZOFFSETTO:+0100
TZNAME:Europe/Berlin CET
END:STANDARD
BEGIN:STANDARD
DTSTART:20241027T020000
RDATE:20250330T030000
TZOFFSETFROM:+0200
TZOFFSETTO:+0100
TZNAME:Europe/Berlin CET
END:STANDARD
BEGIN:STANDARD
DTSTART:20251026T020000
RDATE:20260329T030000
TZOFFSETFROM:+0200
TZOFFSETTO:+0100
TZNAME:Europe/Berlin CET
END:STANDARD
BEGIN:STANDARD
DTSTART:20261025T020000
RDATE:20270328T030000
TZOFFSETFROM:+0200
TZOFFSETTO:+0100
TZNAME:Europe/Berlin CET
END:STANDARD
BEGIN:STANDARD
DTSTART:20271031T020000
RDATE:20280326T030000
TZOFFSETFROM:+0200
TZOFFSETTO:+0100
TZNAME:Europe/Berlin CET
END:STANDARD
BEGIN:STANDARD
DTSTART:20281029T020000
RDATE:20290325T030000
TZOFFSETFROM:+0200
TZOFFSETTO:+0100
TZNAME:Europe/Berlin CET
END:STANDARD
BEGIN:STANDARD
DTSTART:20291028T020000
RDATE:20300331T030000
TZOFFSETFROM:+0200
TZOFFSETTO:+0100
TZNAME:Europe/Berlin CET
END:STANDARD
BEGIN:STANDARD
DTSTART:20301027T020000
RDATE:20310330T030000
TZOFFSETFROM:+0200
TZOFFSETTO:+0100
TZNAME:Europe/Berlin CET
END:STANDARD
BEGIN:STANDARD
DTSTART:20311026T020000
RDATE:20320328T030000
TZOFFSETFROM:+0200
TZOFFSETTO:+0100
TZNAME:Europe/Berlin CET
END:STANDARD
BEGIN:DAYLIGHT
DTSTART:20230609T000000
RDATE:20231029T020000
TZOFFSETFROM:+0100
TZOFFSETTO:+0200
TZNAME:Europe/Berlin CEST
END:DAYLIGHT
BEGIN:DAYLIGHT
DTSTART:20240331T030000
RDATE:20241027T020000
TZOFFSETFROM:+0100
TZOFFSETTO:+0200
TZNAME:Europe/Berlin CEST
END:DAYLIGHT
BEGIN:DAYLIGHT
DTSTART:20250330T030000
RDATE:20251026T020000
TZOFFSETFROM:+0100
TZOFFSETTO:+0200
TZNAME:Europe/Berlin CEST
END:DAYLIGHT
BEGIN:DAYLIGHT
DTSTART:20260329T030000
RDATE:20261025T020000
TZOFFSETFROM:+0100
TZOFFSETTO:+0200
TZNAME:Europe/Berlin CEST
END:DAYLIGHT
BEGIN:DAYLIGHT
DTSTART:20270328T030000
RDATE:20271031T020000
TZOFFSETFROM:+0100
TZOFFSETTO:+0200
TZNAME:Europe/Berlin CEST
END:DAYLIGHT
BEGIN:DAYLIGHT
DTSTART:20280326T030000
RDATE:20281029T020000
TZOFFSETFROM:+0100
TZOFFSETTO:+0200
TZNAME:Europe/Berlin CEST
END:DAYLIGHT
BEGIN:DAYLIGHT
DTSTART:20290325T030000
RDATE:20291028T020000
TZOFFSETFROM:+0100
TZOFFSETTO:+0200
TZNAME:Europe/Berlin CEST
END:DAYLIGHT
BEGIN:DAYLIGHT
DTSTART:20300331T030000
RDATE:20301027T020000
TZOFFSETFROM:+0100
TZOFFSETTO:+0200
TZNAME:Europe/Berlin CEST
END:DAYLIGHT
BEGIN:DAYLIGHT
DTSTART:20310330T030000
RDATE:20311026T020000
TZOFFSETFROM:+0100
TZOFFSETTO:+0200
TZNAME:Europe/Berlin CEST
END:DAYLIGHT
END:VTIMEZONE
BEGIN:VEVENT
UID:a2f88a022aa35c8e6ac369229e40c0a7
CATEGORIES:Wildwasser-Touren, Jugend-Touren
CREATED:20240123T225307
SUMMARY:Jugend-WW-Training Hüningen
DESCRIPTION:<p style="text-align: right;"><span style="color: #3366ff;"><strong>Fahrten
 leiter:</strong></span> Jugendwarte <span id="cloakf313897659bcd818d07252ad
 3194795f">Diese E-Mail-Adresse ist vor Spambots geschützt! Zur Anzeige muss
  JavaScript eingeschaltet sein!</span><script type='text/javascript'>
				d
 ocument.getElementById('cloakf313897659bcd818d07252ad3194795f').innerHTML =
  '';
				var prefix = '&#109;a' + 'i&#108;' + '&#116;o';
				var path = 'hr
 ' + 'ef' + '=';
				var addyf313897659bcd818d07252ad3194795f = 'j&#117;g&#1
 01;ndw&#97;rt' + '&#64;';
				addyf313897659bcd818d07252ad3194795f = addyf3
 13897659bcd818d07252ad3194795f + 'fff-fr&#101;&#105;b&#117;rg' + '&#46;' + 
 'd&#101;?s&#117;bj&#101;ct=Tr&#97;&#105;n&#105;ng%20&#105;n%20H&uuml;n&#105
 ;ng&#101;n';
				var addy_textf313897659bcd818d07252ad3194795f = 'J&#101;ss
 &#105; &amp; Ph&#105;l';document.getElementById('cloakf313897659bcd818d0725
 2ad3194795f').innerHTML += '<a title="E-Mail an Jugendwarte Jessi &amp; Phi
 l" ' + path + '\'' + prefix + ':' + addyf313897659bcd818d07252ad3194795f + 
 '\' target="_blank">'+addy_textf313897659bcd818d07252ad3194795f+'<\/a>';
		
 </script></p><p><strong>Anmeldung bis:</strong> intern in Jugendgruppe</p><
 p style="text-align: center;"><strong><span style="font-family: comic sans 
 ms, sans-serif; font-size: 18pt;"><span style="color: #3366ff;">Training</s
 pan> <span style="color: #ff9900;">auf dem</span> <span style="color: #8000
 00;">WW-Kanal</span> <span style="color: #008000;">in Hüningen </span></spa
 n></strong></p><p>Nach dem kühlen Training im März, haben wir für den Somme
 r schon mal einen weiteren Trainingstag in Hüningen fest eingeplant, mit ho
 ffentlich wärmerer Außen- und Wassertemperatur:</p><p><strong>Sonntag, 9. J
 uni 2024</strong></p><p>Eine Teilnahme ist dabei den aktiven Mitgliedern de
 r Jugendgruppe vorbehalten. Etwaige Anfragen beantworten wir dennoch gerne:
  <span id="cloake3f990ba01b2c339f8b817c85710f9da">Diese E-Mail-Adresse ist 
 vor Spambots geschützt! Zur Anzeige muss JavaScript eingeschaltet sein!</sp
 an><script type='text/javascript'>
				document.getElementById('cloake3f990
 ba01b2c339f8b817c85710f9da').innerHTML = '';
				var prefix = '&#109;a' + '
 i&#108;' + '&#116;o';
				var path = 'hr' + 'ef' + '=';
				var addye3f990b
 a01b2c339f8b817c85710f9da = 'j&#117;g&#101;ndw&#97;rt' + '&#64;';
				addye
 3f990ba01b2c339f8b817c85710f9da = addye3f990ba01b2c339f8b817c85710f9da + 'f
 ff-fr&#101;&#105;b&#117;rg' + '&#46;' + 'd&#101;';
				var addy_texte3f990b
 a01b2c339f8b817c85710f9da = 'j&#117;g&#101;ndw&#97;rt' + '&#64;' + 'fff-fr&
 #101;&#105;b&#117;rg' + '&#46;' + 'd&#101;';document.getElementById('cloake
 3f990ba01b2c339f8b817c85710f9da').innerHTML += '<a title="E-Mail an die Jug
 endwarte Jessi &amp; Phil" ' + path + '\'' + prefix + ':' + addye3f990ba01b
 2c339f8b817c85710f9da + '\' target="_blank">'+addy_texte3f990ba01b2c339f8b8
 17c85710f9da+'<\/a>';
		</script></p><p style="text-align: center;"><span s
 tyle="font-family: comic sans ms, sans-serif; font-size: 14pt;">Jessi &amp;
  Phil</span></p>
DTSTAMP:20260420T091837
DTSTART;TZID=Europe/Berlin;VALUE=DATE:20240609
DTEND;TZID=Europe/Berlin;VALUE=DATE:20240610
SEQUENCE:0
TRANSP:OPAQUE
END:VEVENT
END:VCALENDAR